BEGIN:VCALENDAR
VERSION:2.0
PRODID:-//Γλυκο Καμιναδα - ECPv6.15.17.1//NONSGML v1.0//EN
CALSCALE:GREGORIAN
METHOD:PUBLISH
X-WR-CALNAME:Γλυκο Καμιναδα
X-ORIGINAL-URL:https://glikokaminada.gr
X-WR-CALDESC:Events for Γλυκο Καμιναδα
REFRESH-INTERVAL;VALUE=DURATION:PT1H
X-Robots-Tag:noindex
X-PUBLISHED-TTL:PT1H
BEGIN:VTIMEZONE
TZID:Europe/Athens
BEGIN:DAYLIGHT
TZOFFSETFROM:+0200
TZOFFSETTO:+0300
TZNAME:EEST
DTSTART:20250330T010000
END:DAYLIGHT
BEGIN:STANDARD
TZOFFSETFROM:+0300
TZOFFSETTO:+0200
TZNAME:EET
DTSTART:20251026T010000
END:STANDARD
BEGIN:DAYLIGHT
TZOFFSETFROM:+0200
TZOFFSETTO:+0300
TZNAME:EEST
DTSTART:20260329T010000
END:DAYLIGHT
BEGIN:STANDARD
TZOFFSETFROM:+0300
TZOFFSETTO:+0200
TZNAME:EET
DTSTART:20261025T010000
END:STANDARD
BEGIN:DAYLIGHT
TZOFFSETFROM:+0200
TZOFFSETTO:+0300
TZNAME:EEST
DTSTART:20270328T010000
END:DAYLIGHT
BEGIN:STANDARD
TZOFFSETFROM:+0300
TZOFFSETTO:+0200
TZNAME:EET
DTSTART:20271031T010000
END:STANDARD
END:VTIMEZONE
BEGIN:VEVENT
DTSTART;VALUE=DATE:20260723
DTEND;VALUE=DATE:20260728
DTSTAMP:20260420T031734
CREATED:20231014T042607Z
LAST-MODIFIED:20260113T161136Z
UID:10000063-1784764800-1785196799@glikokaminada.gr
SUMMARY:Αγία Παρασκευή - Βραχάτι
DESCRIPTION:
URL:https://glikokaminada.gr/event/panigyri-agia-paraskevi-vrachati/
LOCATION:Αγία Παρασκευή – Βραχάτι\, Ιερός Ναός Αγίας Παρασκευής Βραχατίου\, Βραχάτι\, 200 06\, Ελλάδα
CATEGORIES:Πανηγύρι
GEO:37.9554026;22.8021335
X-APPLE-STRUCTURED-LOCATION;VALUE=URI;X-ADDRESS=Αγία Παρασκευή – Βραχάτι Ιερός Ναός Αγίας Παρασκευής Βραχατίου Βραχάτι 200 06 Ελλάδα;X-APPLE-RADIUS=500;X-TITLE=Ιερός Ναός Αγίας Παρασκευής Βραχατίου:geo:22.8021335,37.9554026
END:VEVENT
BEGIN:VEVENT
DTSTART;VALUE=DATE:20260726
DTEND;VALUE=DATE:20260728
DTSTAMP:20260420T031734
CREATED:20250604T121258Z
LAST-MODIFIED:20260113T161226Z
UID:10000236-1785024000-1785196799@glikokaminada.gr
SUMMARY:Άγιος Παντελεήμονας - Ανάβυσσος
DESCRIPTION:
URL:https://glikokaminada.gr/event/agios-panteleimonas-anavyssos/
LOCATION:Άγιος Παντελεήμονας – Ανάβυσσος\, Agiou Panteleimonos\, Anavissos\, Greece
CATEGORIES:Πανηγύρι
GEO:37.7515946;23.9517201
X-APPLE-STRUCTURED-LOCATION;VALUE=URI;X-ADDRESS=Άγιος Παντελεήμονας – Ανάβυσσος Agiou Panteleimonos Anavissos Greece;X-APPLE-RADIUS=500;X-TITLE=Agiou Panteleimonos:geo:23.9517201,37.7515946
END:VEVENT
END:VCALENDAR