BEGIN:VCALENDAR
VERSION:2.0
PRODID:-//Γλυκο Καμιναδα - ECPv6.15.17.1//NONSGML v1.0//EN
CALSCALE:GREGORIAN
METHOD:PUBLISH
X-ORIGINAL-URL:https://glikokaminada.gr
X-WR-CALDESC:Events for Γλυκο Καμιναδα
REFRESH-INTERVAL;VALUE=DURATION:PT1H
X-Robots-Tag:noindex
X-PUBLISHED-TTL:PT1H
BEGIN:VTIMEZONE
TZID:Europe/Athens
BEGIN:DAYLIGHT
TZOFFSETFROM:+0200
TZOFFSETTO:+0300
TZNAME:EEST
DTSTART:20240331T010000
END:DAYLIGHT
BEGIN:STANDARD
TZOFFSETFROM:+0300
TZOFFSETTO:+0200
TZNAME:EET
DTSTART:20241027T010000
END:STANDARD
BEGIN:DAYLIGHT
TZOFFSETFROM:+0200
TZOFFSETTO:+0300
TZNAME:EEST
DTSTART:20250330T010000
END:DAYLIGHT
BEGIN:STANDARD
TZOFFSETFROM:+0300
TZOFFSETTO:+0200
TZNAME:EET
DTSTART:20251026T010000
END:STANDARD
BEGIN:DAYLIGHT
TZOFFSETFROM:+0200
TZOFFSETTO:+0300
TZNAME:EEST
DTSTART:20260329T010000
END:DAYLIGHT
BEGIN:STANDARD
TZOFFSETFROM:+0300
TZOFFSETTO:+0200
TZNAME:EET
DTSTART:20261025T010000
END:STANDARD
BEGIN:DAYLIGHT
TZOFFSETFROM:+0200
TZOFFSETTO:+0300
TZNAME:EEST
DTSTART:20270328T010000
END:DAYLIGHT
BEGIN:STANDARD
TZOFFSETFROM:+0300
TZOFFSETTO:+0200
TZNAME:EET
DTSTART:20271031T010000
END:STANDARD
END:VTIMEZONE
BEGIN:VEVENT
DTSTART;VALUE=DATE:20250314
DTEND;VALUE=DATE:20250317
DTSTAMP:20260421T054053
CREATED:20250225T194512Z
LAST-MODIFIED:20250225T194512Z
UID:10000159-1741910400-1742169599@glikokaminada.gr
SUMMARY:Hobby Festival
DESCRIPTION:
URL:https://glikokaminada.gr/event/hobby-festival/
LOCATION:Παλιό Αμαξοστάσιο ΟΣΥ\, Athina\, 118 54\, Greece
CATEGORIES:Festival
GEO:37.9778531;23.7148618
END:VEVENT
BEGIN:VEVENT
DTSTART;VALUE=DATE:20250412
DTEND;VALUE=DATE:20250414
DTSTAMP:20260421T054053
CREATED:20250331T164515Z
LAST-MODIFIED:20250331T164515Z
UID:10000162-1744416000-1744588799@glikokaminada.gr
SUMMARY:Card Fest - Εκθεσιακό Κέντρο Περιστερίου
DESCRIPTION:
URL:https://glikokaminada.gr/event/card-fest-ekthesiako-kentro-peristeriou/
LOCATION:Εκθεσιακό Κέντρο Περιστερίου\, Dodekanisou\, Peristeri\, Αττική\, 121 34\, Greece
CATEGORIES:Festival
GEO:38.0134136;23.6869035
X-APPLE-STRUCTURED-LOCATION;VALUE=URI;X-ADDRESS=Εκθεσιακό Κέντρο Περιστερίου Dodekanisou Peristeri Αττική 121 34 Greece;X-APPLE-RADIUS=500;X-TITLE=Dodekanisou:geo:23.6869035,38.0134136
END:VEVENT
BEGIN:VEVENT
DTSTART;VALUE=DATE:20250501
DTEND;VALUE=DATE:20250505
DTSTAMP:20260421T054053
CREATED:20250419T171835Z
LAST-MODIFIED:20250419T171835Z
UID:10000226-1746057600-1746403199@glikokaminada.gr
SUMMARY:Patras Street Food Music Fest
DESCRIPTION:
URL:https://glikokaminada.gr/event/patras-street-food-music-fest/2025-05-01/
LOCATION:Πολυχώρος 5 ΕΨΙΛΟΝ – Πάτρα\, Patra\, Peloponnese\, 26442\, Greece
CATEGORIES:Festival
GEO:37.5079472;22.37349
END:VEVENT
BEGIN:VEVENT
DTSTART;VALUE=DATE:20250502
DTEND;VALUE=DATE:20250505
DTSTAMP:20260421T054053
CREATED:20250419T170834Z
LAST-MODIFIED:20250419T171143Z
UID:10000165-1746144000-1746403199@glikokaminada.gr
SUMMARY:Athens Street Food Festival
DESCRIPTION:
URL:https://glikokaminada.gr/event/athens-street-food-festival/2025-05-02/
LOCATION:Παλιό Αμαξοστάσιο ΟΣΥ\, Athina\, 118 54\, Greece
CATEGORIES:Festival
GEO:37.9778531;23.7148618
END:VEVENT
BEGIN:VEVENT
DTSTART;VALUE=DATE:20250509
DTEND;VALUE=DATE:20250512
DTSTAMP:20260421T054054
CREATED:20250419T173558Z
LAST-MODIFIED:20250419T173558Z
UID:10000228-1746748800-1747007999@glikokaminada.gr
SUMMARY:World of Beer Festival
DESCRIPTION:
URL:https://glikokaminada.gr/event/world-of-beer-festival/
LOCATION:Τεχνόπολις – Γκάζι\, Pireos\, Athina\, Attica\, 118 54\, Greece
CATEGORIES:Festival
GEO:37.9781002;23.7142949
X-APPLE-STRUCTURED-LOCATION;VALUE=URI;X-ADDRESS=Τεχνόπολις – Γκάζι Pireos Athina Attica 118 54 Greece;X-APPLE-RADIUS=500;X-TITLE=Pireos:geo:23.7142949,37.9781002
END:VEVENT
BEGIN:VEVENT
DTSTART;VALUE=DATE:20250703
DTEND;VALUE=DATE:20250707
DTSTAMP:20260421T054054
CREATED:20250628T071131Z
LAST-MODIFIED:20250628T071131Z
UID:10000243-1751500800-1751846399@glikokaminada.gr
SUMMARY:Μεγάλο Φεστιβάλ - Παραλία Γρίμποβο\, Ναύπακτος
DESCRIPTION:
URL:https://glikokaminada.gr/event/megalo-festival-paralia-gribovo-nafpaktos/
LOCATION:Μεγάλο Φεστιβάλ – Γρίμποβο Ναύπακτος\, Nafpaktos\, 303 00\, Greece
CATEGORIES:Festival
GEO:38.3924898;21.8351236
END:VEVENT
BEGIN:VEVENT
DTSTART;VALUE=DATE:20250704
DTEND;VALUE=DATE:20250707
DTSTAMP:20260421T054054
CREATED:20250604T113633Z
LAST-MODIFIED:20250604T113633Z
UID:10000230-1751587200-1751846399@glikokaminada.gr
SUMMARY:Matala Beach Festival
DESCRIPTION:
URL:https://glikokaminada.gr/event/matala-beach-festival/
LOCATION:Matala Beach Festival – Μάταλα Κρήτης\, Matala\, Κρήτη\, 702 00\, Greece
CATEGORIES:Festival
GEO:34.9931068;24.7496386
END:VEVENT
BEGIN:VEVENT
DTSTART;VALUE=DATE:20260328
DTEND;VALUE=DATE:20260406
DTSTAMP:20260421T054054
CREATED:20260330T205619Z
LAST-MODIFIED:20260330T210448Z
UID:10000265-1774656000-1775433599@glikokaminada.gr
SUMMARY:Κρήτη η Μεγάλη Συνάντηση - Πασαλιμάνι\, Πειραιάς
DESCRIPTION:
URL:https://glikokaminada.gr/event/kriti_i_megali_synantisi_pasalimani/
LOCATION:Πασαλιμάνι\, Πειραιάς\, Πασαλιμάνι Λιμάνι Ζέας\, Πειραιάς\, Ελλάδα
CATEGORIES:Festival
GEO:37.9356958;23.6478475
X-APPLE-STRUCTURED-LOCATION;VALUE=URI;X-ADDRESS=Πασαλιμάνι Πειραιάς Πασαλιμάνι Λιμάνι Ζέας Πειραιάς Ελλάδα;X-APPLE-RADIUS=500;X-TITLE=Πασαλιμάνι Λιμάνι Ζέας:geo:23.6478475,37.9356958
END:VEVENT
END:VCALENDAR