BEGIN:VCALENDAR
VERSION:2.0
PRODID:-//Γλυκο Καμιναδα - ECPv6.15.17.1//NONSGML v1.0//EN
CALSCALE:GREGORIAN
METHOD:PUBLISH
X-ORIGINAL-URL:https://glikokaminada.gr
X-WR-CALDESC:Events for Γλυκο Καμιναδα
REFRESH-INTERVAL;VALUE=DURATION:PT1H
X-Robots-Tag:noindex
X-PUBLISHED-TTL:PT1H
BEGIN:VTIMEZONE
TZID:Europe/Athens
BEGIN:DAYLIGHT
TZOFFSETFROM:+0200
TZOFFSETTO:+0300
TZNAME:EEST
DTSTART:20250330T010000
END:DAYLIGHT
BEGIN:STANDARD
TZOFFSETFROM:+0300
TZOFFSETTO:+0200
TZNAME:EET
DTSTART:20251026T010000
END:STANDARD
BEGIN:DAYLIGHT
TZOFFSETFROM:+0200
TZOFFSETTO:+0300
TZNAME:EEST
DTSTART:20260329T010000
END:DAYLIGHT
BEGIN:STANDARD
TZOFFSETFROM:+0300
TZOFFSETTO:+0200
TZNAME:EET
DTSTART:20261025T010000
END:STANDARD
BEGIN:DAYLIGHT
TZOFFSETFROM:+0200
TZOFFSETTO:+0300
TZNAME:EEST
DTSTART:20270328T010000
END:DAYLIGHT
BEGIN:STANDARD
TZOFFSETFROM:+0300
TZOFFSETTO:+0200
TZNAME:EET
DTSTART:20271031T010000
END:STANDARD
END:VTIMEZONE
BEGIN:VEVENT
DTSTART;VALUE=DATE:20260430
DTEND;VALUE=DATE:20260502
DTSTAMP:20260419T172941
CREATED:20231013T192537Z
LAST-MODIFIED:20260113T152529Z
UID:10000032-1777507200-1777679999@glikokaminada.gr
SUMMARY:Πανηγύρι Πρωτομαγιάς - Νέα Φιλαδέλφεια
DESCRIPTION:
URL:https://glikokaminada.gr/event/panigyri-protomagias-nea-filadelfeia/
LOCATION:Νέα Φιλαδέλφεια\, Λεωφ. Δεκελείας 91-85\, Νέα Φιλαδέλφεια Αττικής\, 143 41\, Ελλάδα
CATEGORIES:Πανηγύρι
GEO:38.0346569;23.7378837
X-APPLE-STRUCTURED-LOCATION;VALUE=URI;X-ADDRESS=Νέα Φιλαδέλφεια Λεωφ. Δεκελείας 91-85 Νέα Φιλαδέλφεια Αττικής 143 41 Ελλάδα;X-APPLE-RADIUS=500;X-TITLE=Λεωφ. Δεκελείας 91-85:geo:23.7378837,38.0346569
END:VEVENT
BEGIN:VEVENT
DTSTART;VALUE=DATE:20260504
DTEND;VALUE=DATE:20260506
DTSTAMP:20260419T172942
CREATED:20231013T193947Z
LAST-MODIFIED:20260113T152652Z
UID:10000034-1777852800-1778025599@glikokaminada.gr
SUMMARY:Αγία Ειρήνη - Γαλάτσι
DESCRIPTION:
URL:https://glikokaminada.gr/event/panigyri-agias-eirinis-galatsi/
LOCATION:Αγίας Ειρήνης \,Γαλάτσι\, Αγίας Ειρήνης\, Γαλάτσι 111 46\, Γαλάτσι\, 111 46\, Ελλάδα
CATEGORIES:Πανηγύρι
GEO:38.0246853;23.7561241
X-APPLE-STRUCTURED-LOCATION;VALUE=URI;X-ADDRESS=Αγίας Ειρήνης Γαλάτσι Αγίας Ειρήνης Γαλάτσι 111 46 Γαλάτσι 111 46 Ελλάδα;X-APPLE-RADIUS=500;X-TITLE=Αγίας Ειρήνης\, Γαλάτσι 111 46:geo:23.7561241,38.0246853
END:VEVENT
BEGIN:VEVENT
DTSTART;VALUE=DATE:20260512
DTEND;VALUE=DATE:20260514
DTSTAMP:20260419T172942
CREATED:20231013T194603Z
LAST-MODIFIED:20260113T153532Z
UID:10000041-1778544000-1778716799@glikokaminada.gr
SUMMARY:Αγία Γλυκερία - Γαλάτσι
DESCRIPTION:
URL:https://glikokaminada.gr/event/panigyri-agia-glykeria-galatsi/
LOCATION:Αγια Γλυκερία  Γαλάτσι\, Agias Glikerias 13\, Galatsi\, 111 47\, Ελλάδα
CATEGORIES:Πανηγύρι
GEO:38.0111623;23.7513795
X-APPLE-STRUCTURED-LOCATION;VALUE=URI;X-ADDRESS=Αγια Γλυκερία  Γαλάτσι Agias Glikerias 13 Galatsi 111 47 Ελλάδα;X-APPLE-RADIUS=500;X-TITLE=Agias Glikerias 13:geo:23.7513795,38.0111623
END:VEVENT
BEGIN:VEVENT
DTSTART;VALUE=DATE:20260512
DTEND;VALUE=DATE:20260514
DTSTAMP:20260419T172942
CREATED:20231013T194642Z
LAST-MODIFIED:20260113T153550Z
UID:10000042-1778544000-1778716799@glikokaminada.gr
SUMMARY:Αγία Γλυκερία - Πετρούπολη
DESCRIPTION:
URL:https://glikokaminada.gr/event/panigyri-agia-glykeria-petroupoli/
LOCATION:Αγια Γλυκερία Πετρούπολη\, Ag. Glikerias 59\, Petroupoli\, 132 31\, Ελλάδα
CATEGORIES:Πανηγύρι
GEO:38.0412191;23.6899722
X-APPLE-STRUCTURED-LOCATION;VALUE=URI;X-ADDRESS=Αγια Γλυκερία Πετρούπολη Ag. Glikerias 59 Petroupoli 132 31 Ελλάδα;X-APPLE-RADIUS=500;X-TITLE=Ag. Glikerias 59:geo:23.6899722,38.0412191
END:VEVENT
BEGIN:VEVENT
DTSTART;VALUE=DATE:20260513
DTEND;VALUE=DATE:20260515
DTSTAMP:20260419T172942
CREATED:20231013T194724Z
LAST-MODIFIED:20260113T153756Z
UID:10000043-1778630400-1778803199@glikokaminada.gr
SUMMARY:Άγιος Θεράποντας - Ζωγράφου
DESCRIPTION:
URL:https://glikokaminada.gr/event/panigyri-agios-therapontas-zografou/
LOCATION:Άγιος Θεράποντας  Ζωγράφου\, Ir. Politechniou\, Zografou\, 157 73\, Ελλάδα
CATEGORIES:Πανηγύρι
GEO:37.9770013;23.777007
X-APPLE-STRUCTURED-LOCATION;VALUE=URI;X-ADDRESS=Άγιος Θεράποντας  Ζωγράφου Ir. Politechniou Zografou 157 73 Ελλάδα;X-APPLE-RADIUS=500;X-TITLE=Ir. Politechniou:geo:23.777007,37.9770013
END:VEVENT
BEGIN:VEVENT
DTSTART;VALUE=DATE:20260517
DTEND;VALUE=DATE:20260519
DTSTAMP:20260419T172942
CREATED:20250417T175252Z
LAST-MODIFIED:20260113T154013Z
UID:10000163-1778976000-1779148799@glikokaminada.gr
SUMMARY:Αγία Φωτεινή - Νέα Σμύρνη
DESCRIPTION:
URL:https://glikokaminada.gr/event/agia-foteini-nea-smyrni/
LOCATION:Αγία Φωτεινή – Νέα Σμύρνη\, Agias Fotinis\, Nea Smirni\, Attica\, 171 23\, Greece
CATEGORIES:Πανηγύρι
GEO:37.9478755;23.7137761
X-APPLE-STRUCTURED-LOCATION;VALUE=URI;X-ADDRESS=Αγία Φωτεινή – Νέα Σμύρνη Agias Fotinis Nea Smirni Attica 171 23 Greece;X-APPLE-RADIUS=500;X-TITLE=Agias Fotinis:geo:23.7137761,37.9478755
END:VEVENT
BEGIN:VEVENT
DTSTART;VALUE=DATE:20260520
DTEND;VALUE=DATE:20260522
DTSTAMP:20260419T172942
CREATED:20231013T194805Z
LAST-MODIFIED:20260113T154140Z
UID:10000044-1779235200-1779407999@glikokaminada.gr
SUMMARY:Κωνσταντίνου και Ελένης - Ηλιούπολη
DESCRIPTION:
URL:https://glikokaminada.gr/event/panigyri-konstantinou-kai-elenis-ilioupoli/
LOCATION:Κωνσταντίνου και Ελένης  Ηλιούπολη\, Agiou Konstantinou 10\, Ilioupoli\, 163 46\, Ελλάδα
CATEGORIES:Πανηγύρι
GEO:37.9415592;23.746795
X-APPLE-STRUCTURED-LOCATION;VALUE=URI;X-ADDRESS=Κωνσταντίνου και Ελένης  Ηλιούπολη Agiou Konstantinou 10 Ilioupoli 163 46 Ελλάδα;X-APPLE-RADIUS=500;X-TITLE=Agiou Konstantinou 10:geo:23.746795,37.9415592
END:VEVENT
BEGIN:VEVENT
DTSTART;VALUE=DATE:20260520
DTEND;VALUE=DATE:20260522
DTSTAMP:20260419T172942
CREATED:20250417T182052Z
LAST-MODIFIED:20260113T154200Z
UID:10000164-1779235200-1779407999@glikokaminada.gr
SUMMARY:Κωνσταντίνου και Ελένης - Μαρκόπουλο
DESCRIPTION:
URL:https://glikokaminada.gr/event/konstantinou-kai-elenis-markopoulo/
LOCATION:Κωνσταντίνου και Ελένης – Μαρκόπουλο\, Αττική\, 190 03\, Greece
CATEGORIES:Πανηγύρι
GEO:37.9106901;24.0177053
END:VEVENT
BEGIN:VEVENT
DTSTART;VALUE=DATE:20260528
DTEND;VALUE=DATE:20260530
DTSTAMP:20260419T172942
CREATED:20231014T034431Z
LAST-MODIFIED:20260113T154357Z
UID:10000046-1779926400-1780099199@glikokaminada.gr
SUMMARY:Αναλήψεως - Κορωπί
DESCRIPTION:
URL:https://glikokaminada.gr/event/analipseos-koropi/
LOCATION:Αναλήψεως  Κορωπί\, Οθωνος Παπαδημητρίου 9\, Κορωπί\, 194 00\, Ελλάδα
CATEGORIES:Πανηγύρι
GEO:37.901048;23.8727881
X-APPLE-STRUCTURED-LOCATION;VALUE=URI;X-ADDRESS=Αναλήψεως  Κορωπί Οθωνος Παπαδημητρίου 9 Κορωπί 194 00 Ελλάδα;X-APPLE-RADIUS=500;X-TITLE=Οθωνος Παπαδημητρίου 9:geo:23.8727881,37.901048
END:VEVENT
BEGIN:VEVENT
DTSTART;VALUE=DATE:20260528
DTEND;VALUE=DATE:20260530
DTSTAMP:20260419T172942
CREATED:20231014T034537Z
LAST-MODIFIED:20260113T154354Z
UID:10000047-1779926400-1780099199@glikokaminada.gr
SUMMARY:Αναλήψεως - Βριλήσσια
DESCRIPTION:
URL:https://glikokaminada.gr/event/analipseos-vrilissia/
LOCATION:Αναλήψεως Βριλήσσια\, Analipseos 93\, Vrilissia\, 152 38\, Ελλάδα
CATEGORIES:Πανηγύρι
GEO:38.0366145;23.8272266
X-APPLE-STRUCTURED-LOCATION;VALUE=URI;X-ADDRESS=Αναλήψεως Βριλήσσια Analipseos 93 Vrilissia 152 38 Ελλάδα;X-APPLE-RADIUS=500;X-TITLE=Analipseos 93:geo:23.8272266,38.0366145
END:VEVENT
BEGIN:VEVENT
DTSTART;VALUE=DATE:20260528
DTEND;VALUE=DATE:20260530
DTSTAMP:20260419T172942
CREATED:20260115T111019Z
LAST-MODIFIED:20260115T111019Z
UID:10000259-1779926400-1780099199@glikokaminada.gr
SUMMARY:Αναλήψεως - Βύρωνας
DESCRIPTION:
URL:https://glikokaminada.gr/event/analipseos-vyronas/
LOCATION:Αναλήψεως Βύρωνας\, Αρτέμιδος 3\, Βύρωνας\, 162 31\, Ελλάδα
CATEGORIES:Πανηγύρι
GEO:37.962204;23.758417
X-APPLE-STRUCTURED-LOCATION;VALUE=URI;X-ADDRESS=Αναλήψεως Βύρωνας Αρτέμιδος 3 Βύρωνας 162 31 Ελλάδα;X-APPLE-RADIUS=500;X-TITLE=Αρτέμιδος 3:geo:23.758417,37.962204
END:VEVENT
END:VCALENDAR