BEGIN:VCALENDAR
VERSION:2.0
PRODID:-//Γλυκο Καμιναδα - ECPv6.15.17.1//NONSGML v1.0//EN
CALSCALE:GREGORIAN
METHOD:PUBLISH
X-ORIGINAL-URL:https://glikokaminada.gr
X-WR-CALDESC:Events for Γλυκο Καμιναδα
REFRESH-INTERVAL;VALUE=DURATION:PT1H
X-Robots-Tag:noindex
X-PUBLISHED-TTL:PT1H
BEGIN:VTIMEZONE
TZID:Europe/Athens
BEGIN:DAYLIGHT
TZOFFSETFROM:+0200
TZOFFSETTO:+0300
TZNAME:EEST
DTSTART:20250330T010000
END:DAYLIGHT
BEGIN:STANDARD
TZOFFSETFROM:+0300
TZOFFSETTO:+0200
TZNAME:EET
DTSTART:20251026T010000
END:STANDARD
BEGIN:DAYLIGHT
TZOFFSETFROM:+0200
TZOFFSETTO:+0300
TZNAME:EEST
DTSTART:20260329T010000
END:DAYLIGHT
BEGIN:STANDARD
TZOFFSETFROM:+0300
TZOFFSETTO:+0200
TZNAME:EET
DTSTART:20261025T010000
END:STANDARD
BEGIN:DAYLIGHT
TZOFFSETFROM:+0200
TZOFFSETTO:+0300
TZNAME:EEST
DTSTART:20270328T010000
END:DAYLIGHT
BEGIN:STANDARD
TZOFFSETFROM:+0300
TZOFFSETTO:+0200
TZNAME:EET
DTSTART:20271031T010000
END:STANDARD
END:VTIMEZONE
BEGIN:VEVENT
DTSTART;VALUE=DATE:20260831
DTEND;VALUE=DATE:20260902
DTSTAMP:20260420T014228
CREATED:20250613T172214Z
LAST-MODIFIED:20260114T113258Z
UID:10000238-1788134400-1788307199@glikokaminada.gr
SUMMARY:Άγιος Μελέτιος - Σεπόλια
DESCRIPTION:
URL:https://glikokaminada.gr/event/agios-meletios-sepolia/
LOCATION:Άγιος Μελέτιος – Σεπόλια\, Agiou Meletiou\, Athina\, Αττική\, 104 43\, Greece
CATEGORIES:Πανηγύρι
GEO:38.0006755;23.7288559
X-APPLE-STRUCTURED-LOCATION;VALUE=URI;X-ADDRESS=Άγιος Μελέτιος – Σεπόλια Agiou Meletiou Athina Αττική 104 43 Greece;X-APPLE-RADIUS=500;X-TITLE=Agiou Meletiou:geo:23.7288559,38.0006755
END:VEVENT
BEGIN:VEVENT
DTSTART;VALUE=DATE:20260905
DTEND;VALUE=DATE:20260909
DTSTAMP:20260420T014228
CREATED:20231016T082917Z
LAST-MODIFIED:20260114T113534Z
UID:10000078-1788566400-1788911999@glikokaminada.gr
SUMMARY:Παναγία Γιάτρισσα - Λουτράκι
DESCRIPTION:
URL:https://glikokaminada.gr/event/panigyri-panagia-giatrissa-loutraki/
LOCATION:Παναγιά Γιάτρισσα Λουτράκι\, Καραϊσκάκη\, Λουτράκι\, 203 00\, Ελλάδα
CATEGORIES:Πανηγύρι
GEO:37.9753031;22.981446
X-APPLE-STRUCTURED-LOCATION;VALUE=URI;X-ADDRESS=Παναγιά Γιάτρισσα Λουτράκι Καραϊσκάκη Λουτράκι 203 00 Ελλάδα;X-APPLE-RADIUS=500;X-TITLE=Καραϊσκάκη:geo:22.981446,37.9753031
END:VEVENT
BEGIN:VEVENT
DTSTART;VALUE=DATE:20260907
DTEND;VALUE=DATE:20260909
DTSTAMP:20260420T014228
CREATED:20231016T083017Z
LAST-MODIFIED:20260114T113850Z
UID:10000079-1788739200-1788911999@glikokaminada.gr
SUMMARY:Αγία Ελεούσα - Καλλιθέα
DESCRIPTION:
URL:https://glikokaminada.gr/event/panigyri-agia-eleousa-kallithea/
LOCATION:Αγια Ελεούσα Καλλιθέα\, Λεωφ. Ελ. Βενιζέλου 214\, Καλλιθέα\, 176 75\, Ελλάδα
CATEGORIES:Πανηγύρι
GEO:37.9519781;23.6947007
X-APPLE-STRUCTURED-LOCATION;VALUE=URI;X-ADDRESS=Αγια Ελεούσα Καλλιθέα Λεωφ. Ελ. Βενιζέλου 214 Καλλιθέα 176 75 Ελλάδα;X-APPLE-RADIUS=500;X-TITLE=Λεωφ. Ελ. Βενιζέλου 214:geo:23.6947007,37.9519781
END:VEVENT
BEGIN:VEVENT
DTSTART;VALUE=DATE:20260913
DTEND;VALUE=DATE:20260915
DTSTAMP:20260420T014228
CREATED:20231016T083338Z
LAST-MODIFIED:20260114T114127Z
UID:10000082-1789257600-1789430399@glikokaminada.gr
SUMMARY:Του Σταυρού - Αιγάλεω
DESCRIPTION:
URL:https://glikokaminada.gr/event/panigyri-tou-stavrou-aigaleo/
LOCATION:Του Σταυρού Αιγάλεω\, Νικ. Πλαστήρα 2\, Αιγάλεω\, 122 42\, Ελλάδα
CATEGORIES:Πανηγύρι
GEO:37.9935201;23.6821729
X-APPLE-STRUCTURED-LOCATION;VALUE=URI;X-ADDRESS=Του Σταυρού Αιγάλεω Νικ. Πλαστήρα 2 Αιγάλεω 122 42 Ελλάδα;X-APPLE-RADIUS=500;X-TITLE=Νικ. Πλαστήρα 2:geo:23.6821729,37.9935201
END:VEVENT
BEGIN:VEVENT
DTSTART;VALUE=DATE:20260916
DTEND;VALUE=DATE:20260918
DTSTAMP:20260420T014228
CREATED:20231016T083427Z
LAST-MODIFIED:20260114T120314Z
UID:10000083-1789516800-1789689599@glikokaminada.gr
SUMMARY:Αγία Σοφία - Ταύρος
DESCRIPTION:
URL:https://glikokaminada.gr/event/panigyri-agia-sofia-tavros/
LOCATION:Αγια Σοφία  Ταύρος\, Αγίας Σοφίας 37\, Ταύρος Αττικής\, 177 78\, Ελλάδα
CATEGORIES:Πανηγύρι
GEO:37.9645519;23.7013294
X-APPLE-STRUCTURED-LOCATION;VALUE=URI;X-ADDRESS=Αγια Σοφία  Ταύρος Αγίας Σοφίας 37 Ταύρος Αττικής 177 78 Ελλάδα;X-APPLE-RADIUS=500;X-TITLE=Αγίας Σοφίας 37:geo:23.7013294,37.9645519
END:VEVENT
BEGIN:VEVENT
DTSTART;VALUE=DATE:20260916
DTEND;VALUE=DATE:20260918
DTSTAMP:20260420T014228
CREATED:20231016T083505Z
LAST-MODIFIED:20260114T120240Z
UID:10000084-1789516800-1789689599@glikokaminada.gr
SUMMARY:Αγία Σοφία - Ψυχικό
DESCRIPTION:
URL:https://glikokaminada.gr/event/panigyri-agia-sofia-psychiko/
LOCATION:Αγια Σοφία Ψυχικό\, Αγίας Σοφίας 34\, Νέο Ψυχικό\, 154 51\, Ελλάδα
CATEGORIES:Πανηγύρι
GEO:38.0002339;23.7779949
X-APPLE-STRUCTURED-LOCATION;VALUE=URI;X-ADDRESS=Αγια Σοφία Ψυχικό Αγίας Σοφίας 34 Νέο Ψυχικό 154 51 Ελλάδα;X-APPLE-RADIUS=500;X-TITLE=Αγίας Σοφίας 34:geo:23.7779949,38.0002339
END:VEVENT
BEGIN:VEVENT
DTSTART;VALUE=DATE:20260919
DTEND;VALUE=DATE:20260921
DTSTAMP:20260420T014228
CREATED:20231016T083614Z
LAST-MODIFIED:20260114T120457Z
UID:10000085-1789776000-1789948799@glikokaminada.gr
SUMMARY:Άγιος Ευστάθιος - Νέα Ιωνία
DESCRIPTION:
URL:https://glikokaminada.gr/event/panigyri-agios-efstathios-nea-ionia/
LOCATION:Αγιος Ευστάθιος Νέα Ιωνία\, Πλ. Αγίου Ευσταθίου\, Νέα Ιωνία\, 142 33\, Ελλάδα
CATEGORIES:Πανηγύρι
GEO:38.0326702;23.7603182
X-APPLE-STRUCTURED-LOCATION;VALUE=URI;X-ADDRESS=Αγιος Ευστάθιος Νέα Ιωνία Πλ. Αγίου Ευσταθίου Νέα Ιωνία 142 33 Ελλάδα;X-APPLE-RADIUS=500;X-TITLE=Πλ. Αγίου Ευσταθίου:geo:23.7603182,38.0326702
END:VEVENT
BEGIN:VEVENT
DTSTART;VALUE=DATE:20260923
DTEND;VALUE=DATE:20260925
DTSTAMP:20260420T014228
CREATED:20250613T174051Z
LAST-MODIFIED:20260114T120801Z
UID:10000239-1790121600-1790294399@glikokaminada.gr
SUMMARY:Παναγία Μυρτιδιώτισσα - Νέο Φάληρο
DESCRIPTION:
URL:https://glikokaminada.gr/event/panagia-myrtidiotissa-neo-faliro/
LOCATION:Παναγία Μυρτιδιώτισσα – Νέο Φάληρο\, Proteos\, Paleo Faliro\, Αττική\, 175 61\, Greece
CATEGORIES:Πανηγύρι
GEO:37.9318376;23.6976695
X-APPLE-STRUCTURED-LOCATION;VALUE=URI;X-ADDRESS=Παναγία Μυρτιδιώτισσα – Νέο Φάληρο Proteos Paleo Faliro Αττική 175 61 Greece;X-APPLE-RADIUS=500;X-TITLE=Proteos:geo:23.6976695,37.9318376
END:VEVENT
END:VCALENDAR