BEGIN:VCALENDAR
VERSION:2.0
PRODID:-//Γλυκο Καμιναδα - ECPv6.15.17.1//NONSGML v1.0//EN
CALSCALE:GREGORIAN
METHOD:PUBLISH
X-WR-CALNAME:Γλυκο Καμιναδα
X-ORIGINAL-URL:https://glikokaminada.gr
X-WR-CALDESC:Events for Γλυκο Καμιναδα
REFRESH-INTERVAL;VALUE=DURATION:PT1H
X-Robots-Tag:noindex
X-PUBLISHED-TTL:PT1H
BEGIN:VTIMEZONE
TZID:Europe/Athens
BEGIN:DAYLIGHT
TZOFFSETFROM:+0200
TZOFFSETTO:+0300
TZNAME:EEST
DTSTART:20250330T010000
END:DAYLIGHT
BEGIN:STANDARD
TZOFFSETFROM:+0300
TZOFFSETTO:+0200
TZNAME:EET
DTSTART:20251026T010000
END:STANDARD
BEGIN:DAYLIGHT
TZOFFSETFROM:+0200
TZOFFSETTO:+0300
TZNAME:EEST
DTSTART:20260329T010000
END:DAYLIGHT
BEGIN:STANDARD
TZOFFSETFROM:+0300
TZOFFSETTO:+0200
TZNAME:EET
DTSTART:20261025T010000
END:STANDARD
BEGIN:DAYLIGHT
TZOFFSETFROM:+0200
TZOFFSETTO:+0300
TZNAME:EEST
DTSTART:20270328T010000
END:DAYLIGHT
BEGIN:STANDARD
TZOFFSETFROM:+0300
TZOFFSETTO:+0200
TZNAME:EET
DTSTART:20271031T010000
END:STANDARD
END:VTIMEZONE
BEGIN:VEVENT
DTSTART;VALUE=DATE:20261129
DTEND;VALUE=DATE:20261201
DTSTAMP:20260420T083219
CREATED:20231013T120824Z
LAST-MODIFIED:20260114T132009Z
UID:10000019-1795910400-1796083199@glikokaminada.gr
SUMMARY:Άγιος Ανδρέας - Λαμπρινή
DESCRIPTION:
URL:https://glikokaminada.gr/event/panigyri-agios-antreas-labrini/
LOCATION:Αγιος Αντρέας Λαμπρινή\, Αμυκλών\, Αθήνα\, 111 42\, Ελλάδα
CATEGORIES:Πανηγύρι
GEO:38.0251368;23.7483857
X-APPLE-STRUCTURED-LOCATION;VALUE=URI;X-ADDRESS=Αγιος Αντρέας Λαμπρινή Αμυκλών Αθήνα 111 42 Ελλάδα;X-APPLE-RADIUS=500;X-TITLE=Αμυκλών\, Αθήνα:geo:23.7483857,38.0251368
END:VEVENT
BEGIN:VEVENT
DTSTART;VALUE=DATE:20261129
DTEND;VALUE=DATE:20261201
DTSTAMP:20260420T083219
CREATED:20231013T120933Z
LAST-MODIFIED:20260114T132056Z
UID:10000020-1795910400-1796083199@glikokaminada.gr
SUMMARY:Άγιος Ανδρέας - Κάτω Πατήσια
DESCRIPTION:
URL:https://glikokaminada.gr/event/panigyri-agios-antreas-kato-patisia/
LOCATION:Αγιος Αντρέας Κάτω Πατήσια\, Γιάνναρη 24\, Αθήνα\, 104 45\, Ελλάδα
CATEGORIES:Πανηγύρι
GEO:38.0103481;23.7267056
X-APPLE-STRUCTURED-LOCATION;VALUE=URI;X-ADDRESS=Αγιος Αντρέας Κάτω Πατήσια Γιάνναρη 24 Αθήνα 104 45 Ελλάδα;X-APPLE-RADIUS=500;X-TITLE=Γιάνναρη 24:geo:23.7267056,38.0103481
END:VEVENT
END:VCALENDAR