BEGIN:VCALENDAR
VERSION:2.0
PRODID:-//Γλυκο Καμιναδα - ECPv6.15.17.1//NONSGML v1.0//EN
CALSCALE:GREGORIAN
METHOD:PUBLISH
X-ORIGINAL-URL:https://glikokaminada.gr
X-WR-CALDESC:Events for Γλυκο Καμιναδα
REFRESH-INTERVAL;VALUE=DURATION:PT1H
X-Robots-Tag:noindex
X-PUBLISHED-TTL:PT1H
BEGIN:VTIMEZONE
TZID:Europe/Athens
BEGIN:DAYLIGHT
TZOFFSETFROM:+0200
TZOFFSETTO:+0300
TZNAME:EEST
DTSTART:20250330T010000
END:DAYLIGHT
BEGIN:STANDARD
TZOFFSETFROM:+0300
TZOFFSETTO:+0200
TZNAME:EET
DTSTART:20251026T010000
END:STANDARD
BEGIN:DAYLIGHT
TZOFFSETFROM:+0200
TZOFFSETTO:+0300
TZNAME:EEST
DTSTART:20260329T010000
END:DAYLIGHT
BEGIN:STANDARD
TZOFFSETFROM:+0300
TZOFFSETTO:+0200
TZNAME:EET
DTSTART:20261025T010000
END:STANDARD
BEGIN:DAYLIGHT
TZOFFSETFROM:+0200
TZOFFSETTO:+0300
TZNAME:EEST
DTSTART:20270328T010000
END:DAYLIGHT
BEGIN:STANDARD
TZOFFSETFROM:+0300
TZOFFSETTO:+0200
TZNAME:EET
DTSTART:20271031T010000
END:STANDARD
END:VTIMEZONE
BEGIN:VEVENT
DTSTART;VALUE=DATE:20260719
DTEND;VALUE=DATE:20260721
DTSTAMP:20260420T032325
CREATED:20231014T042505Z
LAST-MODIFIED:20260113T160958Z
UID:10000062-1784419200-1784591999@glikokaminada.gr
SUMMARY:Προφήτης Ηλίας - Σιδάρι Κέρκυρα
DESCRIPTION:
URL:https://glikokaminada.gr/event/panigyri-profitis-ilias-sidari-kerkyra/
LOCATION:Προφήτης Ηλίας – Σιδάρι Κέρκυρα\, Ελλάδα
CATEGORIES:Πανηγύρι
GEO:39.074208;21.824312
END:VEVENT
BEGIN:VEVENT
DTSTART;VALUE=DATE:20260723
DTEND;VALUE=DATE:20260728
DTSTAMP:20260420T032325
CREATED:20231014T042607Z
LAST-MODIFIED:20260113T161136Z
UID:10000063-1784764800-1785196799@glikokaminada.gr
SUMMARY:Αγία Παρασκευή - Βραχάτι
DESCRIPTION:
URL:https://glikokaminada.gr/event/panigyri-agia-paraskevi-vrachati/
LOCATION:Αγία Παρασκευή – Βραχάτι\, Ιερός Ναός Αγίας Παρασκευής Βραχατίου\, Βραχάτι\, 200 06\, Ελλάδα
CATEGORIES:Πανηγύρι
GEO:37.9554026;22.8021335
X-APPLE-STRUCTURED-LOCATION;VALUE=URI;X-ADDRESS=Αγία Παρασκευή – Βραχάτι Ιερός Ναός Αγίας Παρασκευής Βραχατίου Βραχάτι 200 06 Ελλάδα;X-APPLE-RADIUS=500;X-TITLE=Ιερός Ναός Αγίας Παρασκευής Βραχατίου:geo:22.8021335,37.9554026
END:VEVENT
BEGIN:VEVENT
DTSTART;VALUE=DATE:20260725
DTEND;VALUE=DATE:20260727
DTSTAMP:20260420T032325
CREATED:20231014T042709Z
LAST-MODIFIED:20260113T161114Z
UID:10000064-1784937600-1785110399@glikokaminada.gr
SUMMARY:Αγία Παρασκευή - Αγία Παρασκευή
DESCRIPTION:
URL:https://glikokaminada.gr/event/panigyri-agia-paraskevi/
LOCATION:Αγία Παρασκευή – Αγία Παρασκευή\, Λεωφ. Μεσογείων 408\, Αγ. Παρασκευή\, 153 42\, Ελλάδα
CATEGORIES:Πανηγύρι
GEO:38.0134533;23.8215822
X-APPLE-STRUCTURED-LOCATION;VALUE=URI;X-ADDRESS=Αγία Παρασκευή – Αγία Παρασκευή Λεωφ. Μεσογείων 408 Αγ. Παρασκευή 153 42 Ελλάδα;X-APPLE-RADIUS=500;X-TITLE=Λεωφ. Μεσογείων 408:geo:23.8215822,38.0134533
END:VEVENT
BEGIN:VEVENT
DTSTART;VALUE=DATE:20260725
DTEND;VALUE=DATE:20260727
DTSTAMP:20260420T032325
CREATED:20250604T120720Z
LAST-MODIFIED:20260113T161109Z
UID:10000235-1784937600-1785110399@glikokaminada.gr
SUMMARY:Αγία Παρασκευή - Ηλιούπολη
DESCRIPTION:
URL:https://glikokaminada.gr/event/agia-paraskevi-ilioupoli/
LOCATION:Αγία Παρασκευή – Ηλιούπολη\, Maravelia\, Ilioupoli\, Αττική\, 163 41\, Greece
CATEGORIES:Πανηγύρι
GEO:37.9246316;23.7509768
X-APPLE-STRUCTURED-LOCATION;VALUE=URI;X-ADDRESS=Αγία Παρασκευή – Ηλιούπολη Maravelia Ilioupoli Αττική 163 41 Greece;X-APPLE-RADIUS=500;X-TITLE=Maravelia:geo:23.7509768,37.9246316
END:VEVENT
BEGIN:VEVENT
DTSTART;VALUE=DATE:20260726
DTEND;VALUE=DATE:20260728
DTSTAMP:20260420T032325
CREATED:20250604T121258Z
LAST-MODIFIED:20260113T161226Z
UID:10000236-1785024000-1785196799@glikokaminada.gr
SUMMARY:Άγιος Παντελεήμονας - Ανάβυσσος
DESCRIPTION:
URL:https://glikokaminada.gr/event/agios-panteleimonas-anavyssos/
LOCATION:Άγιος Παντελεήμονας – Ανάβυσσος\, Agiou Panteleimonos\, Anavissos\, Greece
CATEGORIES:Πανηγύρι
GEO:37.7515946;23.9517201
X-APPLE-STRUCTURED-LOCATION;VALUE=URI;X-ADDRESS=Άγιος Παντελεήμονας – Ανάβυσσος Agiou Panteleimonos Anavissos Greece;X-APPLE-RADIUS=500;X-TITLE=Agiou Panteleimonos:geo:23.9517201,37.7515946
END:VEVENT
END:VCALENDAR