BEGIN:VCALENDAR
VERSION:2.0
PRODID:-//Γλυκο Καμιναδα - ECPv6.15.17.1//NONSGML v1.0//EN
CALSCALE:GREGORIAN
METHOD:PUBLISH
X-WR-CALNAME:Γλυκο Καμιναδα
X-ORIGINAL-URL:https://glikokaminada.gr
X-WR-CALDESC:Events for Γλυκο Καμιναδα
REFRESH-INTERVAL;VALUE=DURATION:PT1H
X-Robots-Tag:noindex
X-PUBLISHED-TTL:PT1H
BEGIN:VTIMEZONE
TZID:Europe/Athens
BEGIN:DAYLIGHT
TZOFFSETFROM:+0200
TZOFFSETTO:+0300
TZNAME:EEST
DTSTART:20250330T010000
END:DAYLIGHT
BEGIN:STANDARD
TZOFFSETFROM:+0300
TZOFFSETTO:+0200
TZNAME:EET
DTSTART:20251026T010000
END:STANDARD
BEGIN:DAYLIGHT
TZOFFSETFROM:+0200
TZOFFSETTO:+0300
TZNAME:EEST
DTSTART:20260329T010000
END:DAYLIGHT
BEGIN:STANDARD
TZOFFSETFROM:+0300
TZOFFSETTO:+0200
TZNAME:EET
DTSTART:20261025T010000
END:STANDARD
BEGIN:DAYLIGHT
TZOFFSETFROM:+0200
TZOFFSETTO:+0300
TZNAME:EEST
DTSTART:20270328T010000
END:DAYLIGHT
BEGIN:STANDARD
TZOFFSETFROM:+0300
TZOFFSETTO:+0200
TZNAME:EET
DTSTART:20271031T010000
END:STANDARD
END:VTIMEZONE
BEGIN:VEVENT
DTSTART;VALUE=DATE:20260814
DTEND;VALUE=DATE:20260816
DTSTAMP:20260420T032115
CREATED:20231014T110813Z
LAST-MODIFIED:20260114T110823Z
UID:10000069-1786665600-1786838399@glikokaminada.gr
SUMMARY:Παναγίας - Πόρτο Ράφτη
DESCRIPTION:
URL:https://glikokaminada.gr/event/panigyri-panagias-porto-rafti/
LOCATION:Παναγιας Πορτο Ραφτη\, Περικλέους 11\, Πόρτο Ράφτη\, 190 03\, Ελλάδα
CATEGORIES:Πανηγύρι
GEO:37.8946375;24.0125394
X-APPLE-STRUCTURED-LOCATION;VALUE=URI;X-ADDRESS=Παναγιας Πορτο Ραφτη Περικλέους 11 Πόρτο Ράφτη 190 03 Ελλάδα;X-APPLE-RADIUS=500;X-TITLE=Περικλέους 11:geo:24.0125394,37.8946375
END:VEVENT
BEGIN:VEVENT
DTSTART;VALUE=DATE:20260814
DTEND;VALUE=DATE:20260816
DTSTAMP:20260420T032115
CREATED:20231014T110857Z
LAST-MODIFIED:20260114T110819Z
UID:10000070-1786665600-1786838399@glikokaminada.gr
SUMMARY:Παναγίας - Μαρούσι
DESCRIPTION:
URL:https://glikokaminada.gr/event/panigyri-panagias-marousi/
LOCATION:Παναγίας Μαρούσι\, Χαϊμαντά Δημητρίου 5\, Μαρούσι\, 151 24\, Ελλάδα
CATEGORIES:Πανηγύρι
GEO:38.05932;23.8049936
X-APPLE-STRUCTURED-LOCATION;VALUE=URI;X-ADDRESS=Παναγίας Μαρούσι Χαϊμαντά Δημητρίου 5 Μαρούσι 151 24 Ελλάδα;X-APPLE-RADIUS=500;X-TITLE=Χαϊμαντά Δημητρίου 5:geo:23.8049936,38.05932
END:VEVENT
BEGIN:VEVENT
DTSTART;VALUE=DATE:20260815
DTEND;VALUE=DATE:20260817
DTSTAMP:20260420T032115
CREATED:20260114T111303Z
LAST-MODIFIED:20260114T111303Z
UID:10000256-1786752000-1786924799@glikokaminada.gr
SUMMARY:Άγιος Γεράσιμος - Ιλίσια
DESCRIPTION:
URL:https://glikokaminada.gr/event/agios-gerasimos-ilisia-2/
LOCATION:Άγιος Γεράσιμος Ιλίσια\, Agiou Gerasimou\, Zografou\, 157 71\, Greece
CATEGORIES:Πανηγύρι
GEO:37.9767254;23.7634426
X-APPLE-STRUCTURED-LOCATION;VALUE=URI;X-ADDRESS=Άγιος Γεράσιμος Ιλίσια Agiou Gerasimou Zografou 157 71 Greece;X-APPLE-RADIUS=500;X-TITLE=Agiou Gerasimou:geo:23.7634426,37.9767254
END:VEVENT
END:VCALENDAR