BEGIN:VCALENDAR
VERSION:2.0
PRODID:-//Γλυκο Καμιναδα - ECPv6.15.17.1//NONSGML v1.0//EN
CALSCALE:GREGORIAN
METHOD:PUBLISH
X-ORIGINAL-URL:https://glikokaminada.gr
X-WR-CALDESC:Events for Γλυκο Καμιναδα
REFRESH-INTERVAL;VALUE=DURATION:PT1H
X-Robots-Tag:noindex
X-PUBLISHED-TTL:PT1H
BEGIN:VTIMEZONE
TZID:Europe/Athens
BEGIN:DAYLIGHT
TZOFFSETFROM:+0200
TZOFFSETTO:+0300
TZNAME:EEST
DTSTART:20250330T010000
END:DAYLIGHT
BEGIN:STANDARD
TZOFFSETFROM:+0300
TZOFFSETTO:+0200
TZNAME:EET
DTSTART:20251026T010000
END:STANDARD
BEGIN:DAYLIGHT
TZOFFSETFROM:+0200
TZOFFSETTO:+0300
TZNAME:EEST
DTSTART:20260329T010000
END:DAYLIGHT
BEGIN:STANDARD
TZOFFSETFROM:+0300
TZOFFSETTO:+0200
TZNAME:EET
DTSTART:20261025T010000
END:STANDARD
BEGIN:DAYLIGHT
TZOFFSETFROM:+0200
TZOFFSETTO:+0300
TZNAME:EEST
DTSTART:20270328T010000
END:DAYLIGHT
BEGIN:STANDARD
TZOFFSETFROM:+0300
TZOFFSETTO:+0200
TZNAME:EET
DTSTART:20271031T010000
END:STANDARD
END:VTIMEZONE
BEGIN:VEVENT
DTSTART;VALUE=DATE:20260826
DTEND;VALUE=DATE:20260828
DTSTAMP:20260420T065842
CREATED:20231014T111140Z
LAST-MODIFIED:20260114T112455Z
UID:10000073-1787702400-1787875199@glikokaminada.gr
SUMMARY:Άγιος Φανούριος - Δραπετσώνα
DESCRIPTION:
URL:https://glikokaminada.gr/event/panigyri-agios-fanourios-drapetsona/
LOCATION:Αγιος Φανούριος  Δραπετσώνα\, Αγ. Φανούριος\, Δραπετσώνα 186 48\, Δραπετσώνα\, 186 48\, Ελλάδα
CATEGORIES:Πανηγύρι
GEO:37.9477144;23.6295001
X-APPLE-STRUCTURED-LOCATION;VALUE=URI;X-ADDRESS=Αγιος Φανούριος  Δραπετσώνα Αγ. Φανούριος Δραπετσώνα 186 48 Δραπετσώνα 186 48 Ελλάδα;X-APPLE-RADIUS=500;X-TITLE=Αγ. Φανούριος\, Δραπετσώνα 186 48:geo:23.6295001,37.9477144
END:VEVENT
BEGIN:VEVENT
DTSTART;VALUE=DATE:20260826
DTEND;VALUE=DATE:20260828
DTSTAMP:20260420T065842
CREATED:20231014T111215Z
LAST-MODIFIED:20260114T112900Z
UID:10000074-1787702400-1787875199@glikokaminada.gr
SUMMARY:Άγιος Φανούριος - Βέλο Κορινθίας
DESCRIPTION:
URL:https://glikokaminada.gr/event/panigyri-agios-fanourios-velo/
LOCATION:Αγιος Φανούριος Βέλο\, Palea EO Korinthou Patron 42\,\, Velo\, 200 02\, Ελλάδα
CATEGORIES:Πανηγύρι
GEO:37.9837436;22.7661183
X-APPLE-STRUCTURED-LOCATION;VALUE=URI;X-ADDRESS=Αγιος Φανούριος Βέλο Palea EO Korinthou Patron 42 Velo 200 02 Ελλάδα;X-APPLE-RADIUS=500;X-TITLE=Palea EO Korinthou Patron 42\,:geo:22.7661183,37.9837436
END:VEVENT
BEGIN:VEVENT
DTSTART;VALUE=DATE:20260828
DTEND;VALUE=DATE:20260830
DTSTAMP:20260420T065842
CREATED:20231014T111306Z
LAST-MODIFIED:20260114T113235Z
UID:10000075-1787875200-1788047999@glikokaminada.gr
SUMMARY:Άγιος Ιωάννης - Ρέντη
DESCRIPTION:
URL:https://glikokaminada.gr/event/panigyri-agios-ioannis-renti/
LOCATION:Αγιος Ιωάννης  Ρέντη\, Καμπάνη 14\, Αγ. Ιωάννης Ρέντης\, 182 33\, Ελλάδα
CATEGORIES:Πανηγύρι
GEO:37.9613801;23.6743322
X-APPLE-STRUCTURED-LOCATION;VALUE=URI;X-ADDRESS=Αγιος Ιωάννης  Ρέντη Καμπάνη 14 Αγ. Ιωάννης Ρέντης 182 33 Ελλάδα;X-APPLE-RADIUS=500;X-TITLE=Καμπάνη 14:geo:23.6743322,37.9613801
END:VEVENT
BEGIN:VEVENT
DTSTART;VALUE=DATE:20260828
DTEND;VALUE=DATE:20260830
DTSTAMP:20260420T065842
CREATED:20231014T111344Z
LAST-MODIFIED:20260115T111318Z
UID:10000076-1787875200-1788047999@glikokaminada.gr
SUMMARY:Άγιος Ιωάννης - Μαραθώνας
DESCRIPTION:
URL:https://glikokaminada.gr/event/panigyri-agios-ioannis-marathonas/
LOCATION:Αγιος Ιωάννης Μαραθώνας\, Vasileos Georgiou V 8\, Marathonas\, 190 07\, Ελλάδα
CATEGORIES:Πανηγύρι
GEO:38.1587972;23.9599892
X-APPLE-STRUCTURED-LOCATION;VALUE=URI;X-ADDRESS=Αγιος Ιωάννης Μαραθώνας Vasileos Georgiou V 8 Marathonas 190 07 Ελλάδα;X-APPLE-RADIUS=500;X-TITLE=Vasileos Georgiou V 8:geo:23.9599892,38.1587972
END:VEVENT
END:VCALENDAR