BEGIN:VCALENDAR
VERSION:2.0
PRODID:-//Γλυκο Καμιναδα - ECPv6.15.17.1//NONSGML v1.0//EN
CALSCALE:GREGORIAN
METHOD:PUBLISH
X-ORIGINAL-URL:https://glikokaminada.gr
X-WR-CALDESC:Events for Γλυκο Καμιναδα
REFRESH-INTERVAL;VALUE=DURATION:PT1H
X-Robots-Tag:noindex
X-PUBLISHED-TTL:PT1H
BEGIN:VTIMEZONE
TZID:Europe/Athens
BEGIN:DAYLIGHT
TZOFFSETFROM:+0200
TZOFFSETTO:+0300
TZNAME:EEST
DTSTART:20250330T010000
END:DAYLIGHT
BEGIN:STANDARD
TZOFFSETFROM:+0300
TZOFFSETTO:+0200
TZNAME:EET
DTSTART:20251026T010000
END:STANDARD
BEGIN:DAYLIGHT
TZOFFSETFROM:+0200
TZOFFSETTO:+0300
TZNAME:EEST
DTSTART:20260329T010000
END:DAYLIGHT
BEGIN:STANDARD
TZOFFSETFROM:+0300
TZOFFSETTO:+0200
TZNAME:EET
DTSTART:20261025T010000
END:STANDARD
BEGIN:DAYLIGHT
TZOFFSETFROM:+0200
TZOFFSETTO:+0300
TZNAME:EEST
DTSTART:20270328T010000
END:DAYLIGHT
BEGIN:STANDARD
TZOFFSETFROM:+0300
TZOFFSETTO:+0200
TZNAME:EET
DTSTART:20271031T010000
END:STANDARD
END:VTIMEZONE
BEGIN:VEVENT
DTSTART;VALUE=DATE:20260814
DTEND;VALUE=DATE:20260817
DTSTAMP:20260421T014709
CREATED:20241001T084654Z
LAST-MODIFIED:20260114T135309Z
UID:10000119-1786665600-1786924799@glikokaminada.gr
SUMMARY:Άγιος Γεράσιμος - Κεφαλονιά
DESCRIPTION:
URL:https://glikokaminada.gr/event/agios-gerasimos-kefalonia/
LOCATION:Άγιος Γεράσιμος Κεφαλονιά\, Moni Agiou Gerasimou\, 281 00\, Greece
CATEGORIES:Παζάρι
GEO:38.1656752;20.5889027
END:VEVENT
BEGIN:VEVENT
DTSTART;VALUE=DATE:20260821
DTEND;VALUE=DATE:20260827
DTSTAMP:20260421T014709
CREATED:20231014T110955Z
LAST-MODIFIED:20260114T111619Z
UID:10000071-1787270400-1787788799@glikokaminada.gr
SUMMARY:Άγιος Διονύσιος - Ζάκυνθος
DESCRIPTION:
URL:https://glikokaminada.gr/event/panigyri-agios-dionysios-zakynthos/
LOCATION:Αγιος Διονύσιος Ζάκυνθος\, Λασκάρεως 1\, Ζάκυνθος\, 291 00\, Ελλάδα
CATEGORIES:Παζάρι
GEO:37.778013;20.8977707
X-APPLE-STRUCTURED-LOCATION;VALUE=URI;X-ADDRESS=Αγιος Διονύσιος Ζάκυνθος Λασκάρεως 1 Ζάκυνθος 291 00 Ελλάδα;X-APPLE-RADIUS=500;X-TITLE=Λασκάρεως 1:geo:20.8977707,37.778013
END:VEVENT
BEGIN:VEVENT
DTSTART;VALUE=DATE:20260910
DTEND;VALUE=DATE:20260915
DTSTAMP:20260421T014709
CREATED:20231016T083244Z
LAST-MODIFIED:20260114T120011Z
UID:10000081-1788998400-1789430399@glikokaminada.gr
SUMMARY:Παζάρι Στυμφαλίας
DESCRIPTION:
URL:https://glikokaminada.gr/event/pazari-stymfalias/
LOCATION:Παζάρι Στυμφαλίας\, Stymfalia\, Stymfalia\, 200 16\, Ελλάδα
CATEGORIES:Παζάρι
GEO:37.8393517;22.4045854
X-APPLE-STRUCTURED-LOCATION;VALUE=URI;X-ADDRESS=Παζάρι Στυμφαλίας Stymfalia Stymfalia 200 16 Ελλάδα;X-APPLE-RADIUS=500;X-TITLE=Stymfalia:geo:22.4045854,37.8393517
END:VEVENT
BEGIN:VEVENT
DTSTART;VALUE=DATE:20260911
DTEND;VALUE=DATE:20260920
DTSTAMP:20260421T014709
CREATED:20231016T083154Z
LAST-MODIFIED:20260114T141618Z
UID:10000080-1789084800-1789862399@glikokaminada.gr
SUMMARY:Παζάρι Κυπαρισσίας
DESCRIPTION:
URL:https://glikokaminada.gr/event/pazari-kyparissias/
LOCATION:Παζάρι Κυπαρισσίας\, 25ης Μαρτίου 66\, Κυπαρισσία\, 245 00\, Ελλάδα
CATEGORIES:Παζάρι
GEO:37.2526639;21.6674779
X-APPLE-STRUCTURED-LOCATION;VALUE=URI;X-ADDRESS=Παζάρι Κυπαρισσίας 25ης Μαρτίου 66 Κυπαρισσία 245 00 Ελλάδα;X-APPLE-RADIUS=500;X-TITLE=25ης Μαρτίου 66:geo:21.6674779,37.2526639
END:VEVENT
BEGIN:VEVENT
DTSTART;VALUE=DATE:20260927
DTEND;VALUE=DATE:20261004
DTSTAMP:20260421T014709
CREATED:20260115T111925Z
LAST-MODIFIED:20260115T111925Z
UID:10000260-1790467200-1791071999@glikokaminada.gr
SUMMARY:Παζάρι Άρτας
DESCRIPTION:
URL:https://glikokaminada.gr/event/pazari-artas/
LOCATION:Παζάρι Άρτας\, Άρτα\, Άρτα\, 471 00\, Ελλάδα
CATEGORIES:Παζάρι
GEO:39.1538462;20.9781741
X-APPLE-STRUCTURED-LOCATION;VALUE=URI;X-ADDRESS=Παζάρι Άρτας Άρτα Άρτα 471 00 Ελλάδα;X-APPLE-RADIUS=500;X-TITLE=Άρτα:geo:20.9781741,39.1538462
END:VEVENT
BEGIN:VEVENT
DTSTART;VALUE=DATE:20261001
DTEND;VALUE=DATE:20261006
DTSTAMP:20260421T014709
CREATED:20231012T133213Z
LAST-MODIFIED:20260115T112206Z
UID:10000002-1790812800-1791244799@glikokaminada.gr
SUMMARY:Παζάρι Αμυνταίου
DESCRIPTION:
URL:https://glikokaminada.gr/event/pazari-amyntaiou/
LOCATION:Αμύνταιο\, 28ης Οκτωβρίου\, Αμύνταιο\, 532 00\, Ελλάδα
CATEGORIES:Παζάρι
GEO:40.6900665;21.6768745
X-APPLE-STRUCTURED-LOCATION;VALUE=URI;X-ADDRESS=Αμύνταιο 28ης Οκτωβρίου Αμύνταιο 532 00 Ελλάδα;X-APPLE-RADIUS=500;X-TITLE=28ης Οκτωβρίου\, Αμύνταιο:geo:21.6768745,40.6900665
END:VEVENT
BEGIN:VEVENT
DTSTART;VALUE=DATE:20261003
DTEND;VALUE=DATE:20261005
DTSTAMP:20260421T014709
CREATED:20231012T132745Z
LAST-MODIFIED:20260114T120916Z
UID:10000001-1790985600-1791158399@glikokaminada.gr
SUMMARY:Άγιος Ιερόθεος - Περιστέρι
DESCRIPTION:
URL:https://glikokaminada.gr/event/pazari-agios-ierotheos-peristeri/
LOCATION:Αγιος Ιεροθεος\, Ιερός Ναός Αγίου Ιεροθέου\, Περιστέρι\, Περιστέρι\, 12137\, Ελλάδα
CATEGORIES:Παζάρι
GEO:38.0276662;23.6823838
X-APPLE-STRUCTURED-LOCATION;VALUE=URI;X-ADDRESS=Αγιος Ιεροθεος Ιερός Ναός Αγίου Ιεροθέου Περιστέρι Περιστέρι 12137 Ελλάδα;X-APPLE-RADIUS=500;X-TITLE=Ιερός Ναός Αγίου Ιεροθέου\, Περιστέρι:geo:23.6823838,38.0276662
END:VEVENT
BEGIN:VEVENT
DTSTART;VALUE=DATE:20261003
DTEND;VALUE=DATE:20261012
DTSTAMP:20260421T014709
CREATED:20240930T105003Z
LAST-MODIFIED:20260115T113110Z
UID:10000116-1790985600-1791763199@glikokaminada.gr
SUMMARY:Παζάρι Αυλωναρίου
DESCRIPTION:
URL:https://glikokaminada.gr/event/pazari-avlonariou-2/
LOCATION:Παζάρι Αυλωναρίου\, Επαρ.Οδ. Λέπουρων Χανίων\, Χάνια\, 34009\, Ελλάδα
CATEGORIES:Παζάρι
GEO:38.500375;24.110511
X-APPLE-STRUCTURED-LOCATION;VALUE=URI;X-ADDRESS=Παζάρι Αυλωναρίου Επαρ.Οδ. Λέπουρων Χανίων Χάνια 34009 Ελλάδα;X-APPLE-RADIUS=500;X-TITLE=Επαρ.Οδ. Λέπουρων Χανίων:geo:24.110511,38.500375
END:VEVENT
BEGIN:VEVENT
DTSTART;VALUE=DATE:20261104
DTEND;VALUE=DATE:20261110
DTSTAMP:20260421T014709
CREATED:20251105T105151Z
LAST-MODIFIED:20260115T113448Z
UID:10000251-1793750400-1794268799@glikokaminada.gr
SUMMARY:Παζάρι Μολάων
DESCRIPTION:
URL:https://glikokaminada.gr/event/pazari-molaon/
LOCATION:Παζάρι Μολάων\, Greek Orthodox Church of Saint Nectarios Εκκλησία Άγιος Νεκτάριος Συκέας\, Μολάοι\, 23052\, Ελλάδα
CATEGORIES:Παζάρι
GEO:36.7607714;22.9491858
X-APPLE-STRUCTURED-LOCATION;VALUE=URI;X-ADDRESS=Παζάρι Μολάων Greek Orthodox Church of Saint Nectarios Εκκλησία Άγιος Νεκτάριος Συκέας Μολάοι 23052 Ελλάδα;X-APPLE-RADIUS=500;X-TITLE=Greek Orthodox Church of Saint Nectarios Εκκλησία Άγιος Νεκτάριος Συκέας:geo:22.9491858,36.7607714
END:VEVENT
BEGIN:VEVENT
DTSTART;VALUE=DATE:20261115
DTEND;VALUE=DATE:20261123
DTSTAMP:20260421T014709
CREATED:20231012T134217Z
LAST-MODIFIED:20260115T114037Z
UID:10000004-1794700800-1795391999@glikokaminada.gr
SUMMARY:Παζάρι Στρέφι
DESCRIPTION:
URL:https://glikokaminada.gr/event/pazari-sto-strefi/
LOCATION:Στρέφι\, Στρέφι\, Στρέφι\, 270 65\, Ελλάδα
CATEGORIES:Παζάρι
GEO:37.668637;21.5500406
X-APPLE-STRUCTURED-LOCATION;VALUE=URI;X-ADDRESS=Στρέφι Στρέφι Στρέφι 270 65 Ελλάδα;X-APPLE-RADIUS=500;X-TITLE=Στρέφι:geo:21.5500406,37.668637
END:VEVENT
BEGIN:VEVENT
DTSTART;VALUE=DATE:20261128
DTEND;VALUE=DATE:20261201
DTSTAMP:20260421T014710
CREATED:20231013T120545Z
LAST-MODIFIED:20260114T131958Z
UID:10000018-1795824000-1796083199@glikokaminada.gr
SUMMARY:Άγιος Ανδρέας  - Πάτρα
DESCRIPTION:
URL:https://glikokaminada.gr/event/agios-antreas-patra/
LOCATION:Αγιος Αντρέας  Πάτρα\, Πάτρα\, 262 22\, Ελλάδα
CATEGORIES:Παζάρι
GEO:38.239798;21.725902
END:VEVENT
BEGIN:VEVENT
DTSTART;VALUE=DATE:20261228
DTEND;VALUE=DATE:20270101
DTSTAMP:20260421T014710
CREATED:20231116T080050Z
LAST-MODIFIED:20260115T112810Z
UID:10000113-1798416000-1798761599@glikokaminada.gr
SUMMARY:Παζάρι Μπουναμάδων - Πάτρα
DESCRIPTION:
URL:https://glikokaminada.gr/event/pazari-bounamadon-patra/
LOCATION:Παζάρι Μπουναμάδων Πάτρα\, Πλατεία Τριών Ναυάρχων\, Πάτρα\, Ελλάδα
CATEGORIES:Παζάρι
GEO:38.24112;21.7330022
X-APPLE-STRUCTURED-LOCATION;VALUE=URI;X-ADDRESS=Παζάρι Μπουναμάδων Πάτρα Πλατεία Τριών Ναυάρχων Πάτρα Ελλάδα;X-APPLE-RADIUS=500;X-TITLE=Πλατεία Τριών Ναυάρχων:geo:21.7330022,38.24112
END:VEVENT
END:VCALENDAR