BEGIN:VCALENDAR
VERSION:2.0
PRODID:-//Γλυκο Καμιναδα - ECPv6.15.17.1//NONSGML v1.0//EN
CALSCALE:GREGORIAN
METHOD:PUBLISH
X-ORIGINAL-URL:https://glikokaminada.gr
X-WR-CALDESC:Events for Γλυκο Καμιναδα
REFRESH-INTERVAL;VALUE=DURATION:PT1H
X-Robots-Tag:noindex
X-PUBLISHED-TTL:PT1H
BEGIN:VTIMEZONE
TZID:Europe/Athens
BEGIN:DAYLIGHT
TZOFFSETFROM:+0200
TZOFFSETTO:+0300
TZNAME:EEST
DTSTART:20230326T010000
END:DAYLIGHT
BEGIN:STANDARD
TZOFFSETFROM:+0300
TZOFFSETTO:+0200
TZNAME:EET
DTSTART:20231029T010000
END:STANDARD
BEGIN:DAYLIGHT
TZOFFSETFROM:+0200
TZOFFSETTO:+0300
TZNAME:EEST
DTSTART:20240331T010000
END:DAYLIGHT
BEGIN:STANDARD
TZOFFSETFROM:+0300
TZOFFSETTO:+0200
TZNAME:EET
DTSTART:20241027T010000
END:STANDARD
BEGIN:DAYLIGHT
TZOFFSETFROM:+0200
TZOFFSETTO:+0300
TZNAME:EEST
DTSTART:20250330T010000
END:DAYLIGHT
BEGIN:STANDARD
TZOFFSETFROM:+0300
TZOFFSETTO:+0200
TZNAME:EET
DTSTART:20251026T010000
END:STANDARD
END:VTIMEZONE
BEGIN:VEVENT
DTSTART;VALUE=DATE:20241003
DTEND;VALUE=DATE:20241007
DTSTAMP:20260421T103330
CREATED:20240930T104331Z
LAST-MODIFIED:20250203T213045Z
UID:10000115-1727913600-1728259199@glikokaminada.gr
SUMMARY:Octoberfest (by Street Food Festival)
DESCRIPTION:
URL:https://glikokaminada.gr/event/octoberfest-by-street-food-festival/
LOCATION:Παλιό Αμαξοστάσιο ΟΣΥ\, Athina\, 118 54\, Greece
CATEGORIES:Festival
GEO:37.9778531;23.7148618
END:VEVENT
BEGIN:VEVENT
DTSTART;VALUE=DATE:20241011
DTEND;VALUE=DATE:20241020
DTSTAMP:20260421T103330
CREATED:20240930T103317Z
LAST-MODIFIED:20250203T213017Z
UID:10000114-1728604800-1729382399@glikokaminada.gr
SUMMARY:Παζάρι Χώρα Τριφυλίας
DESCRIPTION:
URL:https://glikokaminada.gr/event/pazari-chora-trifylias/
LOCATION:Παζάρι – Χώρα Τριφυλίας\, Χώρα\, 246 00\, Ελλάδα
CATEGORIES:Παζάρι
GEO:37.051681;21.715094
X-APPLE-STRUCTURED-LOCATION;VALUE=URI;X-ADDRESS=Παζάρι – Χώρα Τριφυλίας Χώρα 246 00 Ελλάδα;X-APPLE-RADIUS=500;X-TITLE=Χώρα:geo:21.715094,37.051681
END:VEVENT
BEGIN:VEVENT
DTSTART;VALUE=DATE:20241025
DTEND;VALUE=DATE:20241027
DTSTAMP:20260421T103330
CREATED:20231013T113826Z
LAST-MODIFIED:20250203T212853Z
UID:10000010-1729814400-1729987199@glikokaminada.gr
SUMMARY:Άγιος Δημήτριος - Μπραχάμι
DESCRIPTION:
URL:https://glikokaminada.gr/event/panigyri-agios-dimitrios-brachami/
LOCATION:Αγιος Δημήτριος Μπραχάμι\, Ηρώων 2\, Αγ. Δημήτριος Αττικής\, 173 43\, Ελλάδα
CATEGORIES:Πανηγύρι
GEO:37.9392373;23.7314784
X-APPLE-STRUCTURED-LOCATION;VALUE=URI;X-ADDRESS=Αγιος Δημήτριος Μπραχάμι Ηρώων 2 Αγ. Δημήτριος Αττικής 173 43 Ελλάδα;X-APPLE-RADIUS=500;X-TITLE=Ηρώων 2:geo:23.7314784,37.9392373
END:VEVENT
END:VCALENDAR