BEGIN:VCALENDAR
VERSION:2.0
PRODID:-//Γλυκο Καμιναδα - ECPv6.15.17.1//NONSGML v1.0//EN
CALSCALE:GREGORIAN
METHOD:PUBLISH
X-WR-CALNAME:Γλυκο Καμιναδα
X-ORIGINAL-URL:https://glikokaminada.gr
X-WR-CALDESC:Events for Γλυκο Καμιναδα
REFRESH-INTERVAL;VALUE=DURATION:PT1H
X-Robots-Tag:noindex
X-PUBLISHED-TTL:PT1H
BEGIN:VTIMEZONE
TZID:Europe/Athens
BEGIN:DAYLIGHT
TZOFFSETFROM:+0200
TZOFFSETTO:+0300
TZNAME:EEST
DTSTART:20250330T010000
END:DAYLIGHT
BEGIN:STANDARD
TZOFFSETFROM:+0300
TZOFFSETTO:+0200
TZNAME:EET
DTSTART:20251026T010000
END:STANDARD
BEGIN:DAYLIGHT
TZOFFSETFROM:+0200
TZOFFSETTO:+0300
TZNAME:EEST
DTSTART:20260329T010000
END:DAYLIGHT
BEGIN:STANDARD
TZOFFSETFROM:+0300
TZOFFSETTO:+0200
TZNAME:EET
DTSTART:20261025T010000
END:STANDARD
BEGIN:DAYLIGHT
TZOFFSETFROM:+0200
TZOFFSETTO:+0300
TZNAME:EEST
DTSTART:20270328T010000
END:DAYLIGHT
BEGIN:STANDARD
TZOFFSETFROM:+0300
TZOFFSETTO:+0200
TZNAME:EET
DTSTART:20271031T010000
END:STANDARD
END:VTIMEZONE
BEGIN:VEVENT
DTSTART;VALUE=DATE:20261031
DTEND;VALUE=DATE:20261102
DTSTAMP:20260422T182708
CREATED:20260114T124358Z
LAST-MODIFIED:20260114T124358Z
UID:10000257-1793404800-1793577599@glikokaminada.gr
SUMMARY:Άγιοι Ανάργυροι. - Άγιοι Ανάργυροι
DESCRIPTION:
URL:https://glikokaminada.gr/event/agioi-anargyroi-agioi-anargyroi/
LOCATION:Αγιοι Ανάργυροι  Αγιοι Ανάργυροι\, Μητροπολιτικός Ναός Αγίων Αναργύρων\, Αγιοι Ανάργυροι\, 135 61\, Ελλάδα
CATEGORIES:Πανηγύρι
GEO:38.0264077;23.7181219
X-APPLE-STRUCTURED-LOCATION;VALUE=URI;X-ADDRESS=Αγιοι Ανάργυροι  Αγιοι Ανάργυροι Μητροπολιτικός Ναός Αγίων Αναργύρων Αγιοι Ανάργυροι 135 61 Ελλάδα;X-APPLE-RADIUS=500;X-TITLE=Μητροπολιτικός Ναός Αγίων Αναργύρων:geo:23.7181219,38.0264077
END:VEVENT
BEGIN:VEVENT
DTSTART;VALUE=DATE:20261031
DTEND;VALUE=DATE:20261102
DTSTAMP:20260422T182708
CREATED:20260114T124422Z
LAST-MODIFIED:20260114T124422Z
UID:10000258-1793404800-1793577599@glikokaminada.gr
SUMMARY:Άγιοι Ανάργυροι. - Κοκκινιά
DESCRIPTION:
URL:https://glikokaminada.gr/event/agioi-anargyroi-kokkinia/
LOCATION:Αγιοι Ανάργυροι Κοκκινιά\, Agion Anargiron ke Kapsampeli\, Pireas\, 185 43\, Ελλάδα
CATEGORIES:Πανηγύρι
GEO:37.9611568;23.6504168
X-APPLE-STRUCTURED-LOCATION;VALUE=URI;X-ADDRESS=Αγιοι Ανάργυροι Κοκκινιά Agion Anargiron ke Kapsampeli Pireas 185 43 Ελλάδα;X-APPLE-RADIUS=500;X-TITLE=Agion Anargiron ke Kapsampeli:geo:23.6504168,37.9611568
END:VEVENT
BEGIN:VEVENT
DTSTART;VALUE=DATE:20261104
DTEND;VALUE=DATE:20261110
DTSTAMP:20260422T182708
CREATED:20251105T105151Z
LAST-MODIFIED:20260115T113448Z
UID:10000251-1793750400-1794268799@glikokaminada.gr
SUMMARY:Παζάρι Μολάων
DESCRIPTION:
URL:https://glikokaminada.gr/event/pazari-molaon/
LOCATION:Παζάρι Μολάων\, Greek Orthodox Church of Saint Nectarios Εκκλησία Άγιος Νεκτάριος Συκέας\, Μολάοι\, 23052\, Ελλάδα
CATEGORIES:Παζάρι
GEO:36.7607714;22.9491858
X-APPLE-STRUCTURED-LOCATION;VALUE=URI;X-ADDRESS=Παζάρι Μολάων Greek Orthodox Church of Saint Nectarios Εκκλησία Άγιος Νεκτάριος Συκέας Μολάοι 23052 Ελλάδα;X-APPLE-RADIUS=500;X-TITLE=Greek Orthodox Church of Saint Nectarios Εκκλησία Άγιος Νεκτάριος Συκέας:geo:22.9491858,36.7607714
END:VEVENT
BEGIN:VEVENT
DTSTART;VALUE=DATE:20261107
DTEND;VALUE=DATE:20261109
DTSTAMP:20260422T182708
CREATED:20231013T114057Z
LAST-MODIFIED:20260114T130444Z
UID:10000011-1794009600-1794182399@glikokaminada.gr
SUMMARY:Άγιοι Ταξιάρχες - Περιστέρι
DESCRIPTION:
URL:https://glikokaminada.gr/event/panigyri-agioi-taxiarches-peristeri/
LOCATION:Άγιοι Ταξιάρχες  Περιστέρι\, Αιμιλίου Βεάκη 53\, Περιστέρι\, 121 34\, Ελλάδα
CATEGORIES:Πανηγύρι
GEO:38.0115209;23.6907648
X-APPLE-STRUCTURED-LOCATION;VALUE=URI;X-ADDRESS=Άγιοι Ταξιάρχες  Περιστέρι Αιμιλίου Βεάκη 53 Περιστέρι 121 34 Ελλάδα;X-APPLE-RADIUS=500;X-TITLE=Αιμιλίου Βεάκη 53:geo:23.6907648,38.0115209
END:VEVENT
BEGIN:VEVENT
DTSTART;VALUE=DATE:20261107
DTEND;VALUE=DATE:20261109
DTSTAMP:20260422T182708
CREATED:20231013T115909Z
LAST-MODIFIED:20260114T130445Z
UID:10000012-1794009600-1794182399@glikokaminada.gr
SUMMARY:Άγιοι Ταξιάρχες - Κορυδαλλός
DESCRIPTION:
URL:https://glikokaminada.gr/event/panigyri-agioi-taxiarches-korydallos/
LOCATION:Άγιοι Ταξιάρχες Κορυδαλλός\, Κολοκοτρώνη 120-124 181 21\, Κορυδαλλός\, 181 21\, Ελλάδα
CATEGORIES:Πανηγύρι
GEO:37.9824241;23.6552659
X-APPLE-STRUCTURED-LOCATION;VALUE=URI;X-ADDRESS=Άγιοι Ταξιάρχες Κορυδαλλός Κολοκοτρώνη 120-124 181 21 Κορυδαλλός 181 21 Ελλάδα;X-APPLE-RADIUS=500;X-TITLE=Κολοκοτρώνη 120-124 181 21:geo:23.6552659,37.9824241
END:VEVENT
BEGIN:VEVENT
DTSTART;VALUE=DATE:20261111
DTEND;VALUE=DATE:20261113
DTSTAMP:20260422T182708
CREATED:20231013T120016Z
LAST-MODIFIED:20260114T130932Z
UID:10000013-1794355200-1794527999@glikokaminada.gr
SUMMARY:Άγιος Νείλος - Πειραιάς
DESCRIPTION:
URL:https://glikokaminada.gr/event/agios-neilos-peiraias/
LOCATION:Αγιος Νείλος Πειραιάς\, Γεωρ. Θεοτόκη 49\, Πειραιάς\, 185 38\, Ελλάδα
CATEGORIES:Πανηγύρι
GEO:37.9337575;23.6356654
X-APPLE-STRUCTURED-LOCATION;VALUE=URI;X-ADDRESS=Αγιος Νείλος Πειραιάς Γεωρ. Θεοτόκη 49 Πειραιάς 185 38 Ελλάδα;X-APPLE-RADIUS=500;X-TITLE=Γεωρ. Θεοτόκη 49:geo:23.6356654,37.9337575
END:VEVENT
BEGIN:VEVENT
DTSTART;VALUE=DATE:20261113
DTEND;VALUE=DATE:20261115
DTSTAMP:20260422T182708
CREATED:20231013T120110Z
LAST-MODIFIED:20260114T131042Z
UID:10000014-1794528000-1794700799@glikokaminada.gr
SUMMARY:Άγιος Φίλιππος - Νίκαια
DESCRIPTION:
URL:https://glikokaminada.gr/event/agios-filippos-nikaia/
LOCATION:Αγιος Φίλιππος Νίκαια\, Ιερός Ναός Αγίων Ελισάβετ και Φιλίππου\, Νίκαια\, 184 51\, Ελλάδα
CATEGORIES:Πανηγύρι
GEO:37.9749186;23.6367856
X-APPLE-STRUCTURED-LOCATION;VALUE=URI;X-ADDRESS=Αγιος Φίλιππος Νίκαια Ιερός Ναός Αγίων Ελισάβετ και Φιλίππου Νίκαια 184 51 Ελλάδα;X-APPLE-RADIUS=500;X-TITLE=Ιερός Ναός Αγίων Ελισάβετ και Φιλίππου:geo:23.6367856,37.9749186
END:VEVENT
BEGIN:VEVENT
DTSTART;VALUE=DATE:20261115
DTEND;VALUE=DATE:20261123
DTSTAMP:20260422T182708
CREATED:20231012T134217Z
LAST-MODIFIED:20260115T114037Z
UID:10000004-1794700800-1795391999@glikokaminada.gr
SUMMARY:Παζάρι Στρέφι
DESCRIPTION:
URL:https://glikokaminada.gr/event/pazari-sto-strefi/
LOCATION:Στρέφι\, Στρέφι\, Στρέφι\, 270 65\, Ελλάδα
CATEGORIES:Παζάρι
GEO:37.668637;21.5500406
X-APPLE-STRUCTURED-LOCATION;VALUE=URI;X-ADDRESS=Στρέφι Στρέφι Στρέφι 270 65 Ελλάδα;X-APPLE-RADIUS=500;X-TITLE=Στρέφι:geo:21.5500406,37.668637
END:VEVENT
BEGIN:VEVENT
DTSTART;VALUE=DATE:20261120
DTEND;VALUE=DATE:20261122
DTSTAMP:20260422T182708
CREATED:20231013T120210Z
LAST-MODIFIED:20260114T131204Z
UID:10000015-1795132800-1795305599@glikokaminada.gr
SUMMARY:Εισόδια Θεοτόκου - Παλατιανή
DESCRIPTION:
URL:https://glikokaminada.gr/event/eisodia-theotokou-palatiani/
LOCATION:Εισόδια Θεοτόκου  Παλατιανή\, Μεθοδίου\, Π. Μελά &\, Ίλιον\, Ίλιον\, 131 21\, Ελλάδα
CATEGORIES:Πανηγύρι
GEO:38.0311919;23.6930585
X-APPLE-STRUCTURED-LOCATION;VALUE=URI;X-ADDRESS=Εισόδια Θεοτόκου  Παλατιανή Μεθοδίου Π. Μελά & Ίλιον Ίλιον 131 21 Ελλάδα;X-APPLE-RADIUS=500;X-TITLE=Μεθοδίου\, Π. Μελά &\, Ίλιον:geo:23.6930585,38.0311919
END:VEVENT
BEGIN:VEVENT
DTSTART;VALUE=DATE:20261120
DTEND;VALUE=DATE:20261122
DTSTAMP:20260422T182708
CREATED:20260115T114940Z
LAST-MODIFIED:20260115T115026Z
UID:10000261-1795132800-1795305599@glikokaminada.gr
SUMMARY:Εισόδια Θεοτόκου - Γλυφάδα
DESCRIPTION:
URL:https://glikokaminada.gr/event/eisodia-theotokou-glyfada/
LOCATION:Εισόδια Θεοτόκου – Γλυφάδα\, Πλ. Καραϊσκάκη 4\, Γλυφάδα\, Αττική\, 165 62\, Ελλάδα
CATEGORIES:Πανηγύρι
GEO:37.9016259;23.7711346
X-APPLE-STRUCTURED-LOCATION;VALUE=URI;X-ADDRESS=Εισόδια Θεοτόκου – Γλυφάδα Πλ. Καραϊσκάκη 4 Γλυφάδα Αττική 165 62 Ελλάδα;X-APPLE-RADIUS=500;X-TITLE=Πλ. Καραϊσκάκη 4:geo:23.7711346,37.9016259
END:VEVENT
BEGIN:VEVENT
DTSTART;VALUE=DATE:20261124
DTEND;VALUE=DATE:20261126
DTSTAMP:20260422T182708
CREATED:20231013T120311Z
LAST-MODIFIED:20260114T131313Z
UID:10000016-1795478400-1795651199@glikokaminada.gr
SUMMARY:Αγία Αικατερίνη - Πετράλωνα
DESCRIPTION:
URL:https://glikokaminada.gr/event/agia-aikaterini-petralona/
LOCATION:Αγια Αικατερίνη  Πετράλωνα\, Αγίας Αικατερίνης\, Αθήνα 118 53\, Αθήνα\, 118 53\, Ελλάδα
CATEGORIES:Πανηγύρι
GEO:37.9698078;23.7081877
X-APPLE-STRUCTURED-LOCATION;VALUE=URI;X-ADDRESS=Αγια Αικατερίνη  Πετράλωνα Αγίας Αικατερίνης Αθήνα 118 53 Αθήνα 118 53 Ελλάδα;X-APPLE-RADIUS=500;X-TITLE=Αγίας Αικατερίνης\, Αθήνα 118 53:geo:23.7081877,37.9698078
END:VEVENT
BEGIN:VEVENT
DTSTART;VALUE=DATE:20261124
DTEND;VALUE=DATE:20261126
DTSTAMP:20260422T182708
CREATED:20251002T092412Z
LAST-MODIFIED:20260114T131332Z
UID:10000249-1795478400-1795651199@glikokaminada.gr
SUMMARY:Αγία Αικατερίνη - Ίλιον
DESCRIPTION:
URL:https://glikokaminada.gr/event/agia-aikaterini-ilion/
LOCATION:Αγία Αικατερίνη – Ίλιον\, Αριστείδου και Αγίας Αικατερίνης\, Ίλιον\, Αττική\, 131 22\, Ελλάδα
CATEGORIES:Πανηγύρι
GEO:38.0231481;23.70874
X-APPLE-STRUCTURED-LOCATION;VALUE=URI;X-ADDRESS=Αγία Αικατερίνη – Ίλιον Αριστείδου και Αγίας Αικατερίνης Ίλιον Αττική 131 22 Ελλάδα;X-APPLE-RADIUS=500;X-TITLE=Αριστείδου και Αγίας Αικατερίνης:geo:23.70874,38.0231481
END:VEVENT
BEGIN:VEVENT
DTSTART;VALUE=DATE:20261125
DTEND;VALUE=DATE:20261127
DTSTAMP:20260422T182708
CREATED:20231013T120415Z
LAST-MODIFIED:20260114T131427Z
UID:10000017-1795564800-1795737599@glikokaminada.gr
SUMMARY:Άγιος Στυλιανός - Γκύζη
DESCRIPTION:
URL:https://glikokaminada.gr/event/agios-stylianos-gkyzi/
LOCATION:Αγιος Στυλιανός  Γκύζη\, Καστριωτού\, Γκύζη\, 114 76\, Ελλάδα
CATEGORIES:Πανηγύρι
GEO:37.9958658;23.7530517
X-APPLE-STRUCTURED-LOCATION;VALUE=URI;X-ADDRESS=Αγιος Στυλιανός  Γκύζη Καστριωτού Γκύζη 114 76 Ελλάδα;X-APPLE-RADIUS=500;X-TITLE=Καστριωτού:geo:23.7530517,37.9958658
END:VEVENT
BEGIN:VEVENT
DTSTART;VALUE=DATE:20261125
DTEND;VALUE=DATE:20261127
DTSTAMP:20260422T182708
CREATED:20241005T140838Z
LAST-MODIFIED:20260114T131806Z
UID:10000138-1795564800-1795737599@glikokaminada.gr
SUMMARY:Άγιος Στυλιανός - Κορυδαλλός
DESCRIPTION:
URL:https://glikokaminada.gr/event/agios-stylianos-korydallos/
LOCATION:Άγιος Στυλιανλος Κορυδαλλός\, Καρπενησίου 8\, Κορυδαλλός\, Αττική\, 18122\, Ελλάδα
CATEGORIES:Πανηγύρι
GEO:39.074208;21.824312
X-APPLE-STRUCTURED-LOCATION;VALUE=URI;X-ADDRESS=Άγιος Στυλιανλος Κορυδαλλός Καρπενησίου 8 Κορυδαλλός Αττική 18122 Ελλάδα;X-APPLE-RADIUS=500;X-TITLE=Καρπενησίου 8:geo:21.824312,39.074208
END:VEVENT
BEGIN:VEVENT
DTSTART;VALUE=DATE:20261128
DTEND;VALUE=DATE:20261201
DTSTAMP:20260422T182708
CREATED:20231013T120545Z
LAST-MODIFIED:20260114T131958Z
UID:10000018-1795824000-1796083199@glikokaminada.gr
SUMMARY:Άγιος Ανδρέας  - Πάτρα
DESCRIPTION:
URL:https://glikokaminada.gr/event/agios-antreas-patra/
LOCATION:Αγιος Αντρέας  Πάτρα\, Πάτρα\, 262 22\, Ελλάδα
CATEGORIES:Παζάρι
GEO:38.239798;21.725902
END:VEVENT
BEGIN:VEVENT
DTSTART;VALUE=DATE:20261129
DTEND;VALUE=DATE:20261201
DTSTAMP:20260422T182708
CREATED:20231013T120824Z
LAST-MODIFIED:20260114T132009Z
UID:10000019-1795910400-1796083199@glikokaminada.gr
SUMMARY:Άγιος Ανδρέας - Λαμπρινή
DESCRIPTION:
URL:https://glikokaminada.gr/event/panigyri-agios-antreas-labrini/
LOCATION:Αγιος Αντρέας Λαμπρινή\, Αμυκλών\, Αθήνα\, 111 42\, Ελλάδα
CATEGORIES:Πανηγύρι
GEO:38.0251368;23.7483857
X-APPLE-STRUCTURED-LOCATION;VALUE=URI;X-ADDRESS=Αγιος Αντρέας Λαμπρινή Αμυκλών Αθήνα 111 42 Ελλάδα;X-APPLE-RADIUS=500;X-TITLE=Αμυκλών\, Αθήνα:geo:23.7483857,38.0251368
END:VEVENT
BEGIN:VEVENT
DTSTART;VALUE=DATE:20261129
DTEND;VALUE=DATE:20261201
DTSTAMP:20260422T182708
CREATED:20231013T120933Z
LAST-MODIFIED:20260114T132056Z
UID:10000020-1795910400-1796083199@glikokaminada.gr
SUMMARY:Άγιος Ανδρέας - Κάτω Πατήσια
DESCRIPTION:
URL:https://glikokaminada.gr/event/panigyri-agios-antreas-kato-patisia/
LOCATION:Αγιος Αντρέας Κάτω Πατήσια\, Γιάνναρη 24\, Αθήνα\, 104 45\, Ελλάδα
CATEGORIES:Πανηγύρι
GEO:38.0103481;23.7267056
X-APPLE-STRUCTURED-LOCATION;VALUE=URI;X-ADDRESS=Αγιος Αντρέας Κάτω Πατήσια Γιάνναρη 24 Αθήνα 104 45 Ελλάδα;X-APPLE-RADIUS=500;X-TITLE=Γιάνναρη 24:geo:23.7267056,38.0103481
END:VEVENT
END:VCALENDAR