BEGIN:VCALENDAR
VERSION:2.0
PRODID:-//Γλυκο Καμιναδα - ECPv6.15.17.1//NONSGML v1.0//EN
CALSCALE:GREGORIAN
METHOD:PUBLISH
X-WR-CALNAME:Γλυκο Καμιναδα
X-ORIGINAL-URL:https://glikokaminada.gr
X-WR-CALDESC:Events for Γλυκο Καμιναδα
REFRESH-INTERVAL;VALUE=DURATION:PT1H
X-Robots-Tag:noindex
X-PUBLISHED-TTL:PT1H
BEGIN:VTIMEZONE
TZID:Europe/Athens
BEGIN:DAYLIGHT
TZOFFSETFROM:+0200
TZOFFSETTO:+0300
TZNAME:EEST
DTSTART:20230326T010000
END:DAYLIGHT
BEGIN:STANDARD
TZOFFSETFROM:+0300
TZOFFSETTO:+0200
TZNAME:EET
DTSTART:20231029T010000
END:STANDARD
BEGIN:DAYLIGHT
TZOFFSETFROM:+0200
TZOFFSETTO:+0300
TZNAME:EEST
DTSTART:20240331T010000
END:DAYLIGHT
BEGIN:STANDARD
TZOFFSETFROM:+0300
TZOFFSETTO:+0200
TZNAME:EET
DTSTART:20241027T010000
END:STANDARD
BEGIN:DAYLIGHT
TZOFFSETFROM:+0200
TZOFFSETTO:+0300
TZNAME:EEST
DTSTART:20250330T010000
END:DAYLIGHT
BEGIN:STANDARD
TZOFFSETFROM:+0300
TZOFFSETTO:+0200
TZNAME:EET
DTSTART:20251026T010000
END:STANDARD
END:VTIMEZONE
BEGIN:VEVENT
DTSTART;VALUE=DATE:20241025
DTEND;VALUE=DATE:20241027
DTSTAMP:20260421T182309
CREATED:20231013T113826Z
LAST-MODIFIED:20250203T212853Z
UID:10000010-1729814400-1729987199@glikokaminada.gr
SUMMARY:Άγιος Δημήτριος - Μπραχάμι
DESCRIPTION:
URL:https://glikokaminada.gr/event/panigyri-agios-dimitrios-brachami/
LOCATION:Αγιος Δημήτριος Μπραχάμι\, Ηρώων 2\, Αγ. Δημήτριος Αττικής\, 173 43\, Ελλάδα
CATEGORIES:Πανηγύρι
GEO:37.9392373;23.7314784
X-APPLE-STRUCTURED-LOCATION;VALUE=URI;X-ADDRESS=Αγιος Δημήτριος Μπραχάμι Ηρώων 2 Αγ. Δημήτριος Αττικής 173 43 Ελλάδα;X-APPLE-RADIUS=500;X-TITLE=Ηρώων 2:geo:23.7314784,37.9392373
END:VEVENT
END:VCALENDAR