BEGIN:VCALENDAR
VERSION:2.0
PRODID:-//Γλυκο Καμιναδα - ECPv6.15.17.1//NONSGML v1.0//EN
CALSCALE:GREGORIAN
METHOD:PUBLISH
X-ORIGINAL-URL:https://glikokaminada.gr
X-WR-CALDESC:Events for Γλυκο Καμιναδα
REFRESH-INTERVAL;VALUE=DURATION:PT1H
X-Robots-Tag:noindex
X-PUBLISHED-TTL:PT1H
BEGIN:VTIMEZONE
TZID:Europe/Athens
BEGIN:DAYLIGHT
TZOFFSETFROM:+0200
TZOFFSETTO:+0300
TZNAME:EEST
DTSTART:20230326T010000
END:DAYLIGHT
BEGIN:STANDARD
TZOFFSETFROM:+0300
TZOFFSETTO:+0200
TZNAME:EET
DTSTART:20231029T010000
END:STANDARD
BEGIN:DAYLIGHT
TZOFFSETFROM:+0200
TZOFFSETTO:+0300
TZNAME:EEST
DTSTART:20240331T010000
END:DAYLIGHT
BEGIN:STANDARD
TZOFFSETFROM:+0300
TZOFFSETTO:+0200
TZNAME:EET
DTSTART:20241027T010000
END:STANDARD
BEGIN:DAYLIGHT
TZOFFSETFROM:+0200
TZOFFSETTO:+0300
TZNAME:EEST
DTSTART:20250330T010000
END:DAYLIGHT
BEGIN:STANDARD
TZOFFSETFROM:+0300
TZOFFSETTO:+0200
TZNAME:EET
DTSTART:20251026T010000
END:STANDARD
END:VTIMEZONE
BEGIN:VEVENT
DTSTART;VALUE=DATE:20241120
DTEND;VALUE=DATE:20241122
DTSTAMP:20260421T085216
CREATED:20251002T092103Z
LAST-MODIFIED:20251105T105438Z
UID:10000248-1732060800-1732233599@glikokaminada.gr
SUMMARY:Εισόδια Θεοτόκου - Βάρη
DESCRIPTION:
URL:https://glikokaminada.gr/event/eisodia-theotokou-vari/
LOCATION:Εισόδια Θεοτόκου – Βάρη\, Λεωφ. Ευελπίδων\, Δήμος Βάρης - Βούλας - Βουλιαγμένης\, Βάρης Βουλιαγμένης\, 166 72\, Ελλάδα
CATEGORIES:Πανηγύρι
GEO:37.8373178;23.8090911
X-APPLE-STRUCTURED-LOCATION;VALUE=URI;X-ADDRESS=Εισόδια Θεοτόκου – Βάρη Λεωφ. Ευελπίδων Δήμος Βάρης - Βούλας - Βουλιαγμένης Βάρης Βουλιαγμένης 166 72 Ελλάδα;X-APPLE-RADIUS=500;X-TITLE=Λεωφ. Ευελπίδων\, Δήμος Βάρης - Βούλας - Βουλιαγμένης:geo:23.8090911,37.8373178
END:VEVENT
BEGIN:VEVENT
DTSTART;VALUE=DATE:20241122
DTEND;VALUE=DATE:20241125
DTSTAMP:20260421T085216
CREATED:20241014T113307Z
LAST-MODIFIED:20250203T212552Z
UID:10000139-1732233600-1732492799@glikokaminada.gr
SUMMARY:Chocolate Fest
DESCRIPTION:
URL:https://glikokaminada.gr/event/chocolate-fest/
LOCATION:Παλιό Αμαξοστάσιο ΟΣΥ\, Athina\, 118 54\, Greece
CATEGORIES:Festival
GEO:37.9778531;23.7148618
END:VEVENT
END:VCALENDAR