BEGIN:VCALENDAR
VERSION:2.0
PRODID:-//Γλυκο Καμιναδα - ECPv6.15.17.1//NONSGML v1.0//EN
CALSCALE:GREGORIAN
METHOD:PUBLISH
X-WR-CALNAME:Γλυκο Καμιναδα
X-ORIGINAL-URL:https://glikokaminada.gr
X-WR-CALDESC:Events for Γλυκο Καμιναδα
REFRESH-INTERVAL;VALUE=DURATION:PT1H
X-Robots-Tag:noindex
X-PUBLISHED-TTL:PT1H
BEGIN:VTIMEZONE
TZID:Europe/Athens
BEGIN:DAYLIGHT
TZOFFSETFROM:+0200
TZOFFSETTO:+0300
TZNAME:EEST
DTSTART:20250330T010000
END:DAYLIGHT
BEGIN:STANDARD
TZOFFSETFROM:+0300
TZOFFSETTO:+0200
TZNAME:EET
DTSTART:20251026T010000
END:STANDARD
BEGIN:DAYLIGHT
TZOFFSETFROM:+0200
TZOFFSETTO:+0300
TZNAME:EEST
DTSTART:20260329T010000
END:DAYLIGHT
BEGIN:STANDARD
TZOFFSETFROM:+0300
TZOFFSETTO:+0200
TZNAME:EET
DTSTART:20261025T010000
END:STANDARD
BEGIN:DAYLIGHT
TZOFFSETFROM:+0200
TZOFFSETTO:+0300
TZNAME:EEST
DTSTART:20270328T010000
END:DAYLIGHT
BEGIN:STANDARD
TZOFFSETFROM:+0300
TZOFFSETTO:+0200
TZNAME:EET
DTSTART:20271031T010000
END:STANDARD
END:VTIMEZONE
BEGIN:VEVENT
DTSTART;VALUE=DATE:20260607
DTEND;VALUE=DATE:20260610
DTSTAMP:20260420T030236
CREATED:20231014T034819Z
LAST-MODIFIED:20260113T155128Z
UID:10000050-1780790400-1781049599@glikokaminada.gr
SUMMARY:Αγίου Πνεύματος - Πεντέλη
DESCRIPTION:
URL:https://glikokaminada.gr/event/panigyri-agiou-pnevmatos-penteli/
LOCATION:Αγίου Πνεύματος Πεντέλη\, Vasileos Georgiou V\, Penteli\, 152 36\, Ελλάδα
CATEGORIES:Πανηγύρι
GEO:38.0513963;23.8702055
X-APPLE-STRUCTURED-LOCATION;VALUE=URI;X-ADDRESS=Αγίου Πνεύματος Πεντέλη Vasileos Georgiou V Penteli 152 36 Ελλάδα;X-APPLE-RADIUS=500;X-TITLE=Vasileos Georgiou V:geo:23.8702055,38.0513963
END:VEVENT
BEGIN:VEVENT
DTSTART;VALUE=DATE:20260607
DTEND;VALUE=DATE:20260610
DTSTAMP:20260420T030236
CREATED:20231014T034851Z
LAST-MODIFIED:20260113T155109Z
UID:10000051-1780790400-1781049599@glikokaminada.gr
SUMMARY:Αγίου Πνεύματος - Κερατέα
DESCRIPTION:
URL:https://glikokaminada.gr/event/panigyri-agiou-pnevmatos-keratea/
LOCATION:Αγίου Πνεύματος Κερατέα\, Lavreotiki\, 190 01\, Ελλάδα
CATEGORIES:Πανηγύρι
GEO:37.8039308;24.0503969
X-APPLE-STRUCTURED-LOCATION;VALUE=URI;X-ADDRESS=Αγίου Πνεύματος Κερατέα Lavreotiki 190 01 Ελλάδα;X-APPLE-RADIUS=500;X-TITLE=Lavreotiki:geo:24.0503969,37.8039308
END:VEVENT
BEGIN:VEVENT
DTSTART;VALUE=DATE:20260608
DTEND;VALUE=DATE:20260610
DTSTAMP:20260420T030236
CREATED:20231014T034929Z
LAST-MODIFIED:20260113T155042Z
UID:10000052-1780876800-1781049599@glikokaminada.gr
SUMMARY:Αγίου Πνεύματος - Βύρωνας
DESCRIPTION:
URL:https://glikokaminada.gr/event/panigyri-agiou-pnevmatos-vyronas/
LOCATION:Αγίου Πνεύματος Βύρωνας\, Κωνσταντιλιέρη 56\, Βύρωνας\, 162 31\, Ελλάδα
CATEGORIES:Πανηγύρι
GEO:37.9599618;23.7546311
X-APPLE-STRUCTURED-LOCATION;VALUE=URI;X-ADDRESS=Αγίου Πνεύματος Βύρωνας Κωνσταντιλιέρη 56 Βύρωνας 162 31 Ελλάδα;X-APPLE-RADIUS=500;X-TITLE=Κωνσταντιλιέρη 56:geo:23.7546311,37.9599618
END:VEVENT
BEGIN:VEVENT
DTSTART;VALUE=DATE:20260608
DTEND;VALUE=DATE:20260610
DTSTAMP:20260420T030236
CREATED:20231014T035000Z
LAST-MODIFIED:20260113T155103Z
UID:10000053-1780876800-1781049599@glikokaminada.gr
SUMMARY:Αγίου Πνεύματος - Αργυρούπολη
DESCRIPTION:
URL:https://glikokaminada.gr/event/panigyri-agiou-pnevmatos-argyroupoli/
LOCATION:Αγίου Πνεύματος Αργυρούπολη\, Λεωφ. Αλεξιουπόλεως 39\, Αργυρούπολη\, 164 52\, Ελλάδα
CATEGORIES:Πανηγύρι
GEO:37.9061603;23.7512084
X-APPLE-STRUCTURED-LOCATION;VALUE=URI;X-ADDRESS=Αγίου Πνεύματος Αργυρούπολη Λεωφ. Αλεξιουπόλεως 39 Αργυρούπολη 164 52 Ελλάδα;X-APPLE-RADIUS=500;X-TITLE=Λεωφ. Αλεξιουπόλεως 39:geo:23.7512084,37.9061603
END:VEVENT
BEGIN:VEVENT
DTSTART;VALUE=DATE:20260614
DTEND;VALUE=DATE:20260616
DTSTAMP:20260420T030236
CREATED:20231014T034341Z
LAST-MODIFIED:20260113T155305Z
UID:10000045-1781395200-1781567999@glikokaminada.gr
SUMMARY:Αγίων Πάντων - Καλλιθέα
DESCRIPTION:
URL:https://glikokaminada.gr/event/panigyri-agion-panton-kallithea/
LOCATION:Αγιων Πάντων Καλλιθέα\, Λεωφ. Ελ. Βενιζέλου 90\, Καλλιθέα\, 176 76\, Ελλάδα
CATEGORIES:Πανηγύρι
GEO:37.9593284;23.7063984
X-APPLE-STRUCTURED-LOCATION;VALUE=URI;X-ADDRESS=Αγιων Πάντων Καλλιθέα Λεωφ. Ελ. Βενιζέλου 90 Καλλιθέα 176 76 Ελλάδα;X-APPLE-RADIUS=500;X-TITLE=Λεωφ. Ελ. Βενιζέλου 90:geo:23.7063984,37.9593284
END:VEVENT
END:VCALENDAR