BEGIN:VCALENDAR
VERSION:2.0
PRODID:-//Γλυκο Καμιναδα - ECPv6.15.17.1//NONSGML v1.0//EN
CALSCALE:GREGORIAN
METHOD:PUBLISH
X-WR-CALNAME:Γλυκο Καμιναδα
X-ORIGINAL-URL:https://glikokaminada.gr
X-WR-CALDESC:Events for Γλυκο Καμιναδα
REFRESH-INTERVAL;VALUE=DURATION:PT1H
X-Robots-Tag:noindex
X-PUBLISHED-TTL:PT1H
BEGIN:VTIMEZONE
TZID:Europe/Athens
BEGIN:DAYLIGHT
TZOFFSETFROM:+0200
TZOFFSETTO:+0300
TZNAME:EEST
DTSTART:20250330T010000
END:DAYLIGHT
BEGIN:STANDARD
TZOFFSETFROM:+0300
TZOFFSETTO:+0200
TZNAME:EET
DTSTART:20251026T010000
END:STANDARD
BEGIN:DAYLIGHT
TZOFFSETFROM:+0200
TZOFFSETTO:+0300
TZNAME:EEST
DTSTART:20260329T010000
END:DAYLIGHT
BEGIN:STANDARD
TZOFFSETFROM:+0300
TZOFFSETTO:+0200
TZNAME:EET
DTSTART:20261025T010000
END:STANDARD
BEGIN:DAYLIGHT
TZOFFSETFROM:+0200
TZOFFSETTO:+0300
TZNAME:EEST
DTSTART:20270328T010000
END:DAYLIGHT
BEGIN:STANDARD
TZOFFSETFROM:+0300
TZOFFSETTO:+0200
TZNAME:EET
DTSTART:20271031T010000
END:STANDARD
END:VTIMEZONE
BEGIN:VEVENT
DTSTART;VALUE=DATE:20260628
DTEND;VALUE=DATE:20260630
DTSTAMP:20260420T030234
CREATED:20250518T112359Z
LAST-MODIFIED:20260113T155506Z
UID:10000229-1782604800-1782777599@glikokaminada.gr
SUMMARY:Αγίου Πέτρου και Παύλου - Κόρινθος
DESCRIPTION:
URL:https://glikokaminada.gr/event/agiou-petrou-kai-pavlou-korinthos/
LOCATION:Αγίου Πέτρου και Παύλου – Κόρινθος\, Apostolou Pavlou\, Korinthos\, Κόρινθος\, 201 31\, Greece
CATEGORIES:Πανηγύρι
GEO:37.9386235;22.9269323
X-APPLE-STRUCTURED-LOCATION;VALUE=URI;X-ADDRESS=Αγίου Πέτρου και Παύλου – Κόρινθος Apostolou Pavlou Korinthos Κόρινθος 201 31 Greece;X-APPLE-RADIUS=500;X-TITLE=Apostolou Pavlou:geo:22.9269323,37.9386235
END:VEVENT
BEGIN:VEVENT
DTSTART;VALUE=DATE:20260630
DTEND;VALUE=DATE:20260702
DTSTAMP:20260420T030234
CREATED:20231014T035248Z
LAST-MODIFIED:20260113T160149Z
UID:10000126-1782777600-1782950399@glikokaminada.gr
SUMMARY:Άγιοι Ανάργυροι - Άγιοι Ανάργυροι
DESCRIPTION:
URL:https://glikokaminada.gr/event/panigyri-agioi-anargyroi/
LOCATION:Αγιοι Ανάργυροι  Αγιοι Ανάργυροι\, Μητροπολιτικός Ναός Αγίων Αναργύρων\, Αγιοι Ανάργυροι\, 135 61\, Ελλάδα
CATEGORIES:Πανηγύρι
GEO:38.0264077;23.7181219
X-APPLE-STRUCTURED-LOCATION;VALUE=URI;X-ADDRESS=Αγιοι Ανάργυροι  Αγιοι Ανάργυροι Μητροπολιτικός Ναός Αγίων Αναργύρων Αγιοι Ανάργυροι 135 61 Ελλάδα;X-APPLE-RADIUS=500;X-TITLE=Μητροπολιτικός Ναός Αγίων Αναργύρων:geo:23.7181219,38.0264077
END:VEVENT
BEGIN:VEVENT
DTSTART;VALUE=DATE:20260630
DTEND;VALUE=DATE:20260702
DTSTAMP:20260420T030234
CREATED:20231014T035329Z
LAST-MODIFIED:20260113T160205Z
UID:10000131-1782777600-1782950399@glikokaminada.gr
SUMMARY:Άγιοι Ανάργυροι - Κοκκινιά
DESCRIPTION:
URL:https://glikokaminada.gr/event/panigyri-agioi-anargyroi-kokkinia/
LOCATION:Αγιοι Ανάργυροι Κοκκινιά\, Agion Anargiron ke Kapsampeli\, Pireas\, 185 43\, Ελλάδα
CATEGORIES:Πανηγύρι
GEO:37.9611568;23.6504168
X-APPLE-STRUCTURED-LOCATION;VALUE=URI;X-ADDRESS=Αγιοι Ανάργυροι Κοκκινιά Agion Anargiron ke Kapsampeli Pireas 185 43 Ελλάδα;X-APPLE-RADIUS=500;X-TITLE=Agion Anargiron ke Kapsampeli:geo:23.6504168,37.9611568
END:VEVENT
BEGIN:VEVENT
DTSTART;VALUE=DATE:20260701
DTEND;VALUE=DATE:20260703
DTSTAMP:20260420T030234
CREATED:20231014T042007Z
LAST-MODIFIED:20260113T160351Z
UID:10000057-1782864000-1783036799@glikokaminada.gr
SUMMARY:Παναγία Βλαχέρνα - Κερατσίνι
DESCRIPTION:
URL:https://glikokaminada.gr/event/panigyri-panagia-vlacherna-keratsini/
LOCATION:Παναγία Βλαχέρνα \, Κερατσίνι\, Πλ. Βλαχερνών\, Κερατσίνι\, 187 57\, Ελλάδα
CATEGORIES:Πανηγύρι
GEO:37.9657451;23.6248042
X-APPLE-STRUCTURED-LOCATION;VALUE=URI;X-ADDRESS=Παναγία Βλαχέρνα  Κερατσίνι Πλ. Βλαχερνών Κερατσίνι 187 57 Ελλάδα;X-APPLE-RADIUS=500;X-TITLE=Πλ. Βλαχερνών:geo:23.6248042,37.9657451
END:VEVENT
END:VCALENDAR