BEGIN:VCALENDAR
VERSION:2.0
PRODID:-//Γλυκο Καμιναδα - ECPv6.15.17.1//NONSGML v1.0//EN
CALSCALE:GREGORIAN
METHOD:PUBLISH
X-WR-CALNAME:Γλυκο Καμιναδα
X-ORIGINAL-URL:https://glikokaminada.gr
X-WR-CALDESC:Events for Γλυκο Καμιναδα
REFRESH-INTERVAL;VALUE=DURATION:PT1H
X-Robots-Tag:noindex
X-PUBLISHED-TTL:PT1H
BEGIN:VTIMEZONE
TZID:Europe/Athens
BEGIN:DAYLIGHT
TZOFFSETFROM:+0200
TZOFFSETTO:+0300
TZNAME:EEST
DTSTART:20240331T010000
END:DAYLIGHT
BEGIN:STANDARD
TZOFFSETFROM:+0300
TZOFFSETTO:+0200
TZNAME:EET
DTSTART:20241027T010000
END:STANDARD
BEGIN:DAYLIGHT
TZOFFSETFROM:+0200
TZOFFSETTO:+0300
TZNAME:EEST
DTSTART:20250330T010000
END:DAYLIGHT
BEGIN:STANDARD
TZOFFSETFROM:+0300
TZOFFSETTO:+0200
TZNAME:EET
DTSTART:20251026T010000
END:STANDARD
BEGIN:DAYLIGHT
TZOFFSETFROM:+0200
TZOFFSETTO:+0300
TZNAME:EEST
DTSTART:20260329T010000
END:DAYLIGHT
BEGIN:STANDARD
TZOFFSETFROM:+0300
TZOFFSETTO:+0200
TZNAME:EET
DTSTART:20261025T010000
END:STANDARD
END:VTIMEZONE
BEGIN:VEVENT
DTSTART;VALUE=DATE:20250626
DTEND;VALUE=DATE:20250701
DTSTAMP:20260422T152208
CREATED:20250628T070515Z
LAST-MODIFIED:20250628T070515Z
UID:10000242-1750896000-1751327999@glikokaminada.gr
SUMMARY:Άγιοι Απόστολοι - Κάλαμος
DESCRIPTION:
URL:https://glikokaminada.gr/event/agioi-apostoloi-kalamos/
LOCATION:Άγιοι Απόστολοι – Κάλαμος\, Giasemion\, Agii Apostoli\, Αττική\, 190 14\, Greece
CATEGORIES:Πανηγύρι
GEO:38.2948361;23.9066249
X-APPLE-STRUCTURED-LOCATION;VALUE=URI;X-ADDRESS=Άγιοι Απόστολοι – Κάλαμος Giasemion Agii Apostoli Αττική 190 14 Greece;X-APPLE-RADIUS=500;X-TITLE=Giasemion:geo:23.9066249,38.2948361
END:VEVENT
END:VCALENDAR