BEGIN:VCALENDAR
VERSION:2.0
PRODID:-//Γλυκο Καμιναδα - ECPv6.15.17.1//NONSGML v1.0//EN
CALSCALE:GREGORIAN
METHOD:PUBLISH
X-WR-CALNAME:Γλυκο Καμιναδα
X-ORIGINAL-URL:https://glikokaminada.gr
X-WR-CALDESC:Events for Γλυκο Καμιναδα
REFRESH-INTERVAL;VALUE=DURATION:PT1H
X-Robots-Tag:noindex
X-PUBLISHED-TTL:PT1H
BEGIN:VTIMEZONE
TZID:Europe/Athens
BEGIN:DAYLIGHT
TZOFFSETFROM:+0200
TZOFFSETTO:+0300
TZNAME:EEST
DTSTART:20220327T010000
END:DAYLIGHT
BEGIN:STANDARD
TZOFFSETFROM:+0300
TZOFFSETTO:+0200
TZNAME:EET
DTSTART:20221030T010000
END:STANDARD
BEGIN:DAYLIGHT
TZOFFSETFROM:+0200
TZOFFSETTO:+0300
TZNAME:EEST
DTSTART:20230326T010000
END:DAYLIGHT
BEGIN:STANDARD
TZOFFSETFROM:+0300
TZOFFSETTO:+0200
TZNAME:EET
DTSTART:20231029T010000
END:STANDARD
BEGIN:DAYLIGHT
TZOFFSETFROM:+0200
TZOFFSETTO:+0300
TZNAME:EEST
DTSTART:20240331T010000
END:DAYLIGHT
BEGIN:STANDARD
TZOFFSETFROM:+0300
TZOFFSETTO:+0200
TZNAME:EET
DTSTART:20241027T010000
END:STANDARD
END:VTIMEZONE
BEGIN:VEVENT
DTSTART;VALUE=DATE:20231205
DTEND;VALUE=DATE:20231207
DTSTAMP:20260420T113732
CREATED:20231013T151302Z
LAST-MODIFIED:20250203T211214Z
UID:10000023-1701734400-1701907199@glikokaminada.gr
SUMMARY:Άγιος Νικόλαος - Καλλιθέα
DESCRIPTION:
URL:https://glikokaminada.gr/event/panigyri-ston-agio-nikolao-kallithea/
LOCATION:Αγιος Νικόλαος Καλλιθέα\, Λεωφ. Ελ. Βενιζέλου 173\, Καλλιθέα\, 176 73\, Ελλάδα
CATEGORIES:Πανηγύρι
GEO:37.9548152;23.7012124
X-APPLE-STRUCTURED-LOCATION;VALUE=URI;X-ADDRESS=Αγιος Νικόλαος Καλλιθέα Λεωφ. Ελ. Βενιζέλου 173 Καλλιθέα 176 73 Ελλάδα;X-APPLE-RADIUS=500;X-TITLE=Λεωφ. Ελ. Βενιζέλου 173:geo:23.7012124,37.9548152
END:VEVENT
END:VCALENDAR