BEGIN:VCALENDAR
VERSION:2.0
PRODID:-//Γλυκο Καμιναδα - ECPv6.15.17.1//NONSGML v1.0//EN
CALSCALE:GREGORIAN
METHOD:PUBLISH
X-ORIGINAL-URL:https://glikokaminada.gr
X-WR-CALDESC:Events for Γλυκο Καμιναδα
REFRESH-INTERVAL;VALUE=DURATION:PT1H
X-Robots-Tag:noindex
X-PUBLISHED-TTL:PT1H
BEGIN:VTIMEZONE
TZID:Europe/Athens
BEGIN:DAYLIGHT
TZOFFSETFROM:+0200
TZOFFSETTO:+0300
TZNAME:EEST
DTSTART:20250330T010000
END:DAYLIGHT
BEGIN:STANDARD
TZOFFSETFROM:+0300
TZOFFSETTO:+0200
TZNAME:EET
DTSTART:20251026T010000
END:STANDARD
BEGIN:DAYLIGHT
TZOFFSETFROM:+0200
TZOFFSETTO:+0300
TZNAME:EEST
DTSTART:20260329T010000
END:DAYLIGHT
BEGIN:STANDARD
TZOFFSETFROM:+0300
TZOFFSETTO:+0200
TZNAME:EET
DTSTART:20261025T010000
END:STANDARD
BEGIN:DAYLIGHT
TZOFFSETFROM:+0200
TZOFFSETTO:+0300
TZNAME:EEST
DTSTART:20270328T010000
END:DAYLIGHT
BEGIN:STANDARD
TZOFFSETFROM:+0300
TZOFFSETTO:+0200
TZNAME:EET
DTSTART:20271031T010000
END:STANDARD
END:VTIMEZONE
BEGIN:VEVENT
DTSTART;VALUE=DATE:20260324
DTEND;VALUE=DATE:20260326
DTSTAMP:20260419T155747
CREATED:20250222T104117Z
LAST-MODIFIED:20260113T150157Z
UID:10000153-1774310400-1774483199@glikokaminada.gr
SUMMARY:Ευαγγελισμός της Θεοτόκου - Περιστέρι
DESCRIPTION:
URL:https://glikokaminada.gr/event/evangelismos-tis-theotokou-peristeri/
LOCATION:Ευαγγελισμός της Θεοτόκου Περιστέρι\, Leoforos Panagi Tsaldari\, Peristeri\, Αττική\, 121 34\, Greece
CATEGORIES:Πανηγύρι
GEO:38.0131438;23.6959196
X-APPLE-STRUCTURED-LOCATION;VALUE=URI;X-ADDRESS=Ευαγγελισμός της Θεοτόκου Περιστέρι Leoforos Panagi Tsaldari Peristeri Αττική 121 34 Greece;X-APPLE-RADIUS=500;X-TITLE=Leoforos Panagi Tsaldari:geo:23.6959196,38.0131438
END:VEVENT
END:VCALENDAR