BEGIN:VCALENDAR
VERSION:2.0
PRODID:-//Γλυκο Καμιναδα - ECPv6.15.17.1//NONSGML v1.0//EN
CALSCALE:GREGORIAN
METHOD:PUBLISH
X-ORIGINAL-URL:https://glikokaminada.gr
X-WR-CALDESC:Events for Γλυκο Καμιναδα
REFRESH-INTERVAL;VALUE=DURATION:PT1H
X-Robots-Tag:noindex
X-PUBLISHED-TTL:PT1H
BEGIN:VTIMEZONE
TZID:Europe/Athens
BEGIN:DAYLIGHT
TZOFFSETFROM:+0200
TZOFFSETTO:+0300
TZNAME:EEST
DTSTART:20240331T010000
END:DAYLIGHT
BEGIN:STANDARD
TZOFFSETFROM:+0300
TZOFFSETTO:+0200
TZNAME:EET
DTSTART:20241027T010000
END:STANDARD
BEGIN:DAYLIGHT
TZOFFSETFROM:+0200
TZOFFSETTO:+0300
TZNAME:EEST
DTSTART:20250330T010000
END:DAYLIGHT
BEGIN:STANDARD
TZOFFSETFROM:+0300
TZOFFSETTO:+0200
TZNAME:EET
DTSTART:20251026T010000
END:STANDARD
BEGIN:DAYLIGHT
TZOFFSETFROM:+0200
TZOFFSETTO:+0300
TZNAME:EEST
DTSTART:20260329T010000
END:DAYLIGHT
BEGIN:STANDARD
TZOFFSETFROM:+0300
TZOFFSETTO:+0200
TZNAME:EET
DTSTART:20261025T010000
END:STANDARD
BEGIN:DAYLIGHT
TZOFFSETFROM:+0200
TZOFFSETTO:+0300
TZNAME:EEST
DTSTART:20270328T010000
END:DAYLIGHT
BEGIN:STANDARD
TZOFFSETFROM:+0300
TZOFFSETTO:+0200
TZNAME:EET
DTSTART:20271031T010000
END:STANDARD
END:VTIMEZONE
BEGIN:VEVENT
DTSTART;VALUE=DATE:20260327
DTEND;VALUE=DATE:20260410
DTSTAMP:20260420T145814
CREATED:20260306T192907Z
LAST-MODIFIED:20260306T192907Z
UID:10000264-1774569600-1775779199@glikokaminada.gr
SUMMARY:Πασχαλινό Bazaar - Περιστέρι
DESCRIPTION:
URL:https://glikokaminada.gr/event/paschalino-bazaar-peristeri/
LOCATION:Περιστέρι Πλατεία Δημαρχείου\, ΔΗΜΑΡΧΕΙΟ\, Περιστέρι\, 121 34\, Ελλάδα
CATEGORIES:Special Event
GEO:38.0128853;23.6951379
X-APPLE-STRUCTURED-LOCATION;VALUE=URI;X-ADDRESS=Περιστέρι Πλατεία Δημαρχείου ΔΗΜΑΡΧΕΙΟ Περιστέρι 121 34 Ελλάδα;X-APPLE-RADIUS=500;X-TITLE=ΔΗΜΑΡΧΕΙΟ\, Περιστέρι:geo:23.6951379,38.0128853
END:VEVENT
BEGIN:VEVENT
DTSTART;VALUE=DATE:20251128
DTEND;VALUE=DATE:20260107
DTSTAMP:20260420T145814
CREATED:20241119T055459Z
LAST-MODIFIED:20251121T095843Z
UID:10000109-1764288000-1767743999@glikokaminada.gr
SUMMARY:Χριστουγεννιάτικο Χωριό - Περιστέρι
DESCRIPTION:
URL:https://glikokaminada.gr/event/christougenniatiko-chorio-peristeri-2/
LOCATION:Περιστέρι Πλατεία Δημαρχείου\, ΔΗΜΑΡΧΕΙΟ\, Περιστέρι\, 121 34\, Ελλάδα
CATEGORIES:Χριστουγεννιάτικο Χωριό
GEO:38.0128853;23.6951379
X-APPLE-STRUCTURED-LOCATION;VALUE=URI;X-ADDRESS=Περιστέρι Πλατεία Δημαρχείου ΔΗΜΑΡΧΕΙΟ Περιστέρι 121 34 Ελλάδα;X-APPLE-RADIUS=500;X-TITLE=ΔΗΜΑΡΧΕΙΟ\, Περιστέρι:geo:23.6951379,38.0128853
END:VEVENT
END:VCALENDAR