BEGIN:VCALENDAR
VERSION:2.0
PRODID:-//Γλυκο Καμιναδα - ECPv6.15.17.1//NONSGML v1.0//EN
CALSCALE:GREGORIAN
METHOD:PUBLISH
X-WR-CALNAME:Γλυκο Καμιναδα
X-ORIGINAL-URL:https://glikokaminada.gr
X-WR-CALDESC:Events for Γλυκο Καμιναδα
REFRESH-INTERVAL;VALUE=DURATION:PT1H
X-Robots-Tag:noindex
X-PUBLISHED-TTL:PT1H
BEGIN:VTIMEZONE
TZID:Europe/Athens
BEGIN:DAYLIGHT
TZOFFSETFROM:+0200
TZOFFSETTO:+0300
TZNAME:EEST
DTSTART:20250330T010000
END:DAYLIGHT
BEGIN:STANDARD
TZOFFSETFROM:+0300
TZOFFSETTO:+0200
TZNAME:EET
DTSTART:20251026T010000
END:STANDARD
BEGIN:DAYLIGHT
TZOFFSETFROM:+0200
TZOFFSETTO:+0300
TZNAME:EEST
DTSTART:20260329T010000
END:DAYLIGHT
BEGIN:STANDARD
TZOFFSETFROM:+0300
TZOFFSETTO:+0200
TZNAME:EET
DTSTART:20261025T010000
END:STANDARD
BEGIN:DAYLIGHT
TZOFFSETFROM:+0200
TZOFFSETTO:+0300
TZNAME:EEST
DTSTART:20270328T010000
END:DAYLIGHT
BEGIN:STANDARD
TZOFFSETFROM:+0300
TZOFFSETTO:+0200
TZNAME:EET
DTSTART:20271031T010000
END:STANDARD
END:VTIMEZONE
BEGIN:VEVENT
DTSTART;VALUE=DATE:20260403
DTEND;VALUE=DATE:20260405
DTSTAMP:20260420T152452
CREATED:20250328T173445Z
LAST-MODIFIED:20260113T150724Z
UID:10000160-1775174400-1775347199@glikokaminada.gr
SUMMARY:Αγίου Λαζάρου - Βύρωνας
DESCRIPTION:
URL:https://glikokaminada.gr/event/tou-lazarou-vyronas/
LOCATION:Του Λαζάρου – Βύρωνας\, Panagi Tsaldari\, Vironas\, Αττική\, 162 31\, Greece
CATEGORIES:Πανηγύρι
GEO:37.9614139;23.7518312
X-APPLE-STRUCTURED-LOCATION;VALUE=URI;X-ADDRESS=Του Λαζάρου – Βύρωνας Panagi Tsaldari Vironas Αττική 162 31 Greece;X-APPLE-RADIUS=500;X-TITLE=Panagi Tsaldari:geo:23.7518312,37.9614139
END:VEVENT
END:VCALENDAR